BEGIN:VCALENDAR
VERSION:2.0
PRODID:-//St. John&#039;s Bellefonte - ECPv6.15.20//NONSGML v1.0//EN
CALSCALE:GREGORIAN
METHOD:PUBLISH
X-WR-CALNAME:St. John&#039;s Bellefonte
X-ORIGINAL-URL:https://stjohnsepiscopalbellefonte.org
X-WR-CALDESC:Events for St. John&#039;s Bellefonte
REFRESH-INTERVAL;VALUE=DURATION:PT1H
X-Robots-Tag:noindex
X-PUBLISHED-TTL:PT1H
BEGIN:VTIMEZONE
TZID:America/New_York
BEGIN:DAYLIGHT
TZOFFSETFROM:-0500
TZOFFSETTO:-0400
TZNAME:EDT
DTSTART:20240310T070000
END:DAYLIGHT
BEGIN:STANDARD
TZOFFSETFROM:-0400
TZOFFSETTO:-0500
TZNAME:EST
DTSTART:20241103T060000
END:STANDARD
BEGIN:DAYLIGHT
TZOFFSETFROM:-0500
TZOFFSETTO:-0400
TZNAME:EDT
DTSTART:20250309T070000
END:DAYLIGHT
BEGIN:STANDARD
TZOFFSETFROM:-0400
TZOFFSETTO:-0500
TZNAME:EST
DTSTART:20251102T060000
END:STANDARD
BEGIN:DAYLIGHT
TZOFFSETFROM:-0500
TZOFFSETTO:-0400
TZNAME:EDT
DTSTART:20260308T070000
END:DAYLIGHT
BEGIN:STANDARD
TZOFFSETFROM:-0400
TZOFFSETTO:-0500
TZNAME:EST
DTSTART:20261101T060000
END:STANDARD
END:VTIMEZONE
BEGIN:VEVENT
DTSTART;TZID=America/New_York:20250304T160000
DTEND;TZID=America/New_York:20250304T180000
DTSTAMP:20260424T093554
CREATED:20250226T174435Z
LAST-MODIFIED:20250303T223216Z
UID:4028-1741104000-1741111200@stjohnsepiscopalbellefonte.org
SUMMARY:Shrove Tuesday Pancake Supper
DESCRIPTION:Pancake supper and hymn sing. $10 adults; free for kids under 12. Benefits Bellefonte Youth Center.
URL:https://stjohnsepiscopalbellefonte.org/event/shrove-tuesday-pancake-supper-4/
LOCATION:198 W Lamb St\, Bellefonte
ATTACH;FMTTYPE=image/jpeg:https://stjohnsepiscopalbellefonte.org/wp-content/uploads/2025/02/pancakes.jpg
END:VEVENT
END:VCALENDAR