BEGIN:VCALENDAR
VERSION:2.0
PRODID:-//St. John&#039;s Bellefonte - ECPv6.15.20//NONSGML v1.0//EN
CALSCALE:GREGORIAN
METHOD:PUBLISH
X-ORIGINAL-URL:https://stjohnsepiscopalbellefonte.org
X-WR-CALDESC:Events for St. John&#039;s Bellefonte
REFRESH-INTERVAL;VALUE=DURATION:PT1H
X-Robots-Tag:noindex
X-PUBLISHED-TTL:PT1H
BEGIN:VTIMEZONE
TZID:America/New_York
BEGIN:DAYLIGHT
TZOFFSETFROM:-0500
TZOFFSETTO:-0400
TZNAME:EDT
DTSTART:20250309T070000
END:DAYLIGHT
BEGIN:STANDARD
TZOFFSETFROM:-0400
TZOFFSETTO:-0500
TZNAME:EST
DTSTART:20251102T060000
END:STANDARD
BEGIN:DAYLIGHT
TZOFFSETFROM:-0500
TZOFFSETTO:-0400
TZNAME:EDT
DTSTART:20260308T070000
END:DAYLIGHT
BEGIN:STANDARD
TZOFFSETFROM:-0400
TZOFFSETTO:-0500
TZNAME:EST
DTSTART:20261101T060000
END:STANDARD
BEGIN:DAYLIGHT
TZOFFSETFROM:-0500
TZOFFSETTO:-0400
TZNAME:EDT
DTSTART:20270314T070000
END:DAYLIGHT
BEGIN:STANDARD
TZOFFSETFROM:-0400
TZOFFSETTO:-0500
TZNAME:EST
DTSTART:20271107T060000
END:STANDARD
END:VTIMEZONE
BEGIN:VEVENT
DTSTART;TZID=America/New_York:20260218T093000
DTEND;TZID=America/New_York:20260218T103000
DTSTAMP:20260423T170738
CREATED:20260205T120609Z
LAST-MODIFIED:20260205T150452Z
UID:4343-1771407000-1771410600@stjohnsepiscopalbellefonte.org
SUMMARY:Ash Wednesday Service (a.m.)
DESCRIPTION:Holy Eucharist with Imposition of Ashes
URL:https://stjohnsepiscopalbellefonte.org/event/ash-wednesday-service-a-m/
LOCATION:120 W Lamb St\, Bellefonte\, 120 W Lamb St\, Bellefonte\, PA\, 16823\, United States
END:VEVENT
BEGIN:VEVENT
DTSTART;TZID=America/New_York:20260218T183000
DTEND;TZID=America/New_York:20260218T193000
DTSTAMP:20260423T170738
CREATED:20260119T132742Z
LAST-MODIFIED:20260205T120631Z
UID:4338-1771439400-1771443000@stjohnsepiscopalbellefonte.org
SUMMARY:Ash Wednesday service (p.m.)
DESCRIPTION:Holy Eucharist with imposition of ashes
URL:https://stjohnsepiscopalbellefonte.org/event/ash-wednesday-service-2/
LOCATION:120 W Lamb St\, Bellefonte\, 120 W Lamb St\, Bellefonte\, PA\, 16823\, United States
END:VEVENT
END:VCALENDAR