BEGIN:VCALENDAR
VERSION:2.0
PRODID:-//St. John&#039;s Bellefonte - ECPv6.15.20//NONSGML v1.0//EN
CALSCALE:GREGORIAN
METHOD:PUBLISH
X-WR-CALNAME:St. John&#039;s Bellefonte
X-ORIGINAL-URL:https://stjohnsepiscopalbellefonte.org
X-WR-CALDESC:Events for St. John&#039;s Bellefonte
REFRESH-INTERVAL;VALUE=DURATION:PT1H
X-Robots-Tag:noindex
X-PUBLISHED-TTL:PT1H
BEGIN:VTIMEZONE
TZID:America/New_York
BEGIN:DAYLIGHT
TZOFFSETFROM:-0500
TZOFFSETTO:-0400
TZNAME:EDT
DTSTART:20210314T070000
END:DAYLIGHT
BEGIN:STANDARD
TZOFFSETFROM:-0400
TZOFFSETTO:-0500
TZNAME:EST
DTSTART:20211107T060000
END:STANDARD
BEGIN:DAYLIGHT
TZOFFSETFROM:-0500
TZOFFSETTO:-0400
TZNAME:EDT
DTSTART:20220313T070000
END:DAYLIGHT
BEGIN:STANDARD
TZOFFSETFROM:-0400
TZOFFSETTO:-0500
TZNAME:EST
DTSTART:20221106T060000
END:STANDARD
BEGIN:DAYLIGHT
TZOFFSETFROM:-0500
TZOFFSETTO:-0400
TZNAME:EDT
DTSTART:20230312T070000
END:DAYLIGHT
BEGIN:STANDARD
TZOFFSETFROM:-0400
TZOFFSETTO:-0500
TZNAME:EST
DTSTART:20231105T060000
END:STANDARD
BEGIN:DAYLIGHT
TZOFFSETFROM:-0500
TZOFFSETTO:-0400
TZNAME:EDT
DTSTART:20240310T070000
END:DAYLIGHT
BEGIN:STANDARD
TZOFFSETFROM:-0400
TZOFFSETTO:-0500
TZNAME:EST
DTSTART:20241103T060000
END:STANDARD
BEGIN:DAYLIGHT
TZOFFSETFROM:-0500
TZOFFSETTO:-0400
TZNAME:EDT
DTSTART:20250309T070000
END:DAYLIGHT
BEGIN:STANDARD
TZOFFSETFROM:-0400
TZOFFSETTO:-0500
TZNAME:EST
DTSTART:20251102T060000
END:STANDARD
END:VTIMEZONE
BEGIN:VEVENT
DTSTART;TZID=America/New_York:20240915T110000
DTEND;TZID=America/New_York:20240915T140000
DTSTAMP:20260425T111257
CREATED:20240831T143632Z
LAST-MODIFIED:20240831T143632Z
UID:3866-1726398000-1726408800@stjohnsepiscopalbellefonte.org
SUMMARY:Parish Fall Picnic
DESCRIPTION:
URL:https://stjohnsepiscopalbellefonte.org/event/parish-fall-picnic/
LOCATION:337 E Curtin St.\, Bellefonte\, PA\, United States
END:VEVENT
BEGIN:VEVENT
DTSTART;TZID=America/New_York:20240728T093000
DTEND;TZID=America/New_York:20240728T103000
DTSTAMP:20260425T111257
CREATED:20240525T120313Z
LAST-MODIFIED:20240525T120313Z
UID:3779-1722159000-1722162600@stjohnsepiscopalbellefonte.org
SUMMARY:Rev. Kevin Lowe's first mass celebration
DESCRIPTION:Join us to celebrate The Rev. Kevin Lowe’s debut as a priest as he conducts his first service and mass\, followed by special Coffee Hour.
URL:https://stjohnsepiscopalbellefonte.org/event/rev-kevin-lowes-first-mass-celebration/
LOCATION:189 W Lamb St\, Bellefonte
END:VEVENT
BEGIN:VEVENT
DTSTART;TZID=America/New_York:20240623T110000
DTEND;TZID=America/New_York:20240623T130000
DTSTAMP:20260425T111257
CREATED:20240525T115920Z
LAST-MODIFIED:20240525T115920Z
UID:3776-1719140400-1719147600@stjohnsepiscopalbellefonte.org
SUMMARY:Parish picnic
DESCRIPTION:
URL:https://stjohnsepiscopalbellefonte.org/event/parish-picnic/
LOCATION:337 E Curtin St.\, Bellefonte\, PA\, United States
ORGANIZER;CN="Deacon Alex Dyakiw":MAILTO:deaconalex@gmail.com
END:VEVENT
BEGIN:VEVENT
DTSTART;TZID=America/New_York:20240608T130000
DTEND;TZID=America/New_York:20240608T150000
DTSTAMP:20260425T111257
CREATED:20240527T123903Z
LAST-MODIFIED:20240527T210606Z
UID:3786-1717851600-1717858800@stjohnsepiscopalbellefonte.org
SUMMARY:Rain barrel workshop - St. John's Parish Hall
DESCRIPTION:Cost: $40 for kit. Details at https://www.rainbrothers.com/store/DIY-Rain-Barrel-Construction-and-Installation-Kit-w-Downspout-Diverter-p281493335. RSVP by Monday\, June 3\, to ect5075@psu.edu.
URL:https://stjohnsepiscopalbellefonte.org/event/rain-barrel-workshop-st-johns-parish-hall/
LOCATION:198 W Lamb St\, Bellefonte
END:VEVENT
BEGIN:VEVENT
DTSTART;TZID=America/New_York:20240601T090000
DTEND;TZID=America/New_York:20240601T120000
DTSTAMP:20260425T111257
CREATED:20240527T123729Z
LAST-MODIFIED:20240527T123729Z
UID:3783-1717232400-1717243200@stjohnsepiscopalbellefonte.org
SUMMARY:Outdoor grounds clean-up
DESCRIPTION:June 1\, 9:00 a.m.  Bring work gloves and/or garden tools.
URL:https://stjohnsepiscopalbellefonte.org/event/outdoor-grounds-clean-up/
LOCATION:189 W Lamb St\, Bellefonte
END:VEVENT
BEGIN:VEVENT
DTSTART;TZID=America/New_York:20240512T103000
DTEND;TZID=America/New_York:20240512T130000
DTSTAMP:20260425T111257
CREATED:20240427T205925Z
LAST-MODIFIED:20240427T205939Z
UID:3734-1715509800-1715518800@stjohnsepiscopalbellefonte.org
SUMMARY:Corned beef hash breakfast
DESCRIPTION:Following 9:00 and 10:30 masses
URL:https://stjohnsepiscopalbellefonte.org/event/corned-beef-hash-breakfast/
LOCATION:189 W Lamb St\, Bellefonte
END:VEVENT
BEGIN:VEVENT
DTSTART;TZID=America/New_York:20240505T143000
DTEND;TZID=America/New_York:20240505T153000
DTSTAMP:20260425T111257
CREATED:20240503T141414Z
LAST-MODIFIED:20240503T141424Z
UID:3745-1714919400-1714923000@stjohnsepiscopalbellefonte.org
SUMMARY:Conversations About Gaza
DESCRIPTION:The killing and famine in Gaza are ongoing. What role can Bellefonte play? You are invited to join a group of concerned local citizens next Sunday afternoon in the Fellowship Hall for a time of conversation to learn about the situation in Gaza and discuss what we can do. St. John’s Fellowship Hall\, 120 W Lamb St.
URL:https://stjohnsepiscopalbellefonte.org/event/conversations-about-gaza/
LOCATION:189 W Lamb St\, Bellefonte
END:VEVENT
BEGIN:VEVENT
DTSTART;TZID=America/New_York:20240330T200000
DTEND;TZID=America/New_York:20240330T220000
DTSTAMP:20260425T111257
CREATED:20240319T203834Z
LAST-MODIFIED:20240319T203834Z
UID:3653-1711828800-1711836000@stjohnsepiscopalbellefonte.org
SUMMARY:The Great Vigil of Easter
DESCRIPTION:
URL:https://stjohnsepiscopalbellefonte.org/event/the-great-vigil-of-easter-3/
LOCATION:PA
END:VEVENT
BEGIN:VEVENT
DTSTART;TZID=America/New_York:20240329T120000
DTEND;TZID=America/New_York:20240329T130000
DTSTAMP:20260425T111257
CREATED:20240319T203801Z
LAST-MODIFIED:20240319T203801Z
UID:3650-1711713600-1711717200@stjohnsepiscopalbellefonte.org
SUMMARY:Good Friday service
DESCRIPTION:
URL:https://stjohnsepiscopalbellefonte.org/event/good-friday-service/
LOCATION:PA
END:VEVENT
BEGIN:VEVENT
DTSTART;TZID=America/New_York:20240328T190000
DTEND;TZID=America/New_York:20240328T203000
DTSTAMP:20260425T111257
CREATED:20240319T203725Z
LAST-MODIFIED:20240319T203725Z
UID:3647-1711652400-1711657800@stjohnsepiscopalbellefonte.org
SUMMARY:Maundy Thursday service
DESCRIPTION:
URL:https://stjohnsepiscopalbellefonte.org/event/maundy-thursday-service/
LOCATION:PA
END:VEVENT
BEGIN:VEVENT
DTSTART;TZID=America/New_York:20240322T173000
DTEND;TZID=America/New_York:20240322T180000
DTSTAMP:20260425T111257
CREATED:20240319T204009Z
LAST-MODIFIED:20240319T204009Z
UID:3657-1711128600-1711130400@stjohnsepiscopalbellefonte.org
SUMMARY:Stations of the Cross
DESCRIPTION:
URL:https://stjohnsepiscopalbellefonte.org/event/stations-of-the-cross-2/
LOCATION:PA
END:VEVENT
BEGIN:VEVENT
DTSTART;TZID=America/New_York:20240316T160000
DTEND;TZID=America/New_York:20240316T190000
DTSTAMP:20260425T111257
CREATED:20240215T134235Z
LAST-MODIFIED:20240215T134415Z
UID:3590-1710604800-1710615600@stjohnsepiscopalbellefonte.org
SUMMARY:St. Patrick's Day Dinner - takeout only
DESCRIPTION:
URL:https://stjohnsepiscopalbellefonte.org/event/st-patricks-day-dinner/
LOCATION:PA
ORGANIZER;CN="Deacon Alex Dyakiw":MAILTO:deaconalex@gmail.com
END:VEVENT
BEGIN:VEVENT
DTSTART;TZID=America/New_York:20240216T173000
DTEND;TZID=America/New_York:20240322T180000
DTSTAMP:20260425T111257
CREATED:20240216T203157Z
LAST-MODIFIED:20240216T203157Z
UID:3602-1708104600-1711130400@stjohnsepiscopalbellefonte.org
SUMMARY:Stations of the Cross - Fridays in Lent
DESCRIPTION:
URL:https://stjohnsepiscopalbellefonte.org/event/stations-of-the-cross-fridays-in-lent/
LOCATION:189 W Lamb St\, Bellefonte
END:VEVENT
BEGIN:VEVENT
DTSTART;TZID=America/New_York:20240214T093000
DTEND;TZID=America/New_York:20240214T183000
DTSTAMP:20260425T111257
CREATED:20240205T131827Z
LAST-MODIFIED:20240205T131827Z
UID:3579-1707903000-1707935400@stjohnsepiscopalbellefonte.org
SUMMARY:Ash Wednesday Services - Feb. 14; 9:30 a.m. and 6:30 p.m.
DESCRIPTION:1. Spoken service and imposition of ashes by Deacon Alex at 9:30\n2. Sung service and imposition of ashes by Fr. Kevin Barron at 6:30
URL:https://stjohnsepiscopalbellefonte.org/event/ash-wednesday-services-feb-14-930-a-m-and-630-p-m/
LOCATION:189 W Lamb St\, Bellefonte
ORGANIZER;CN="Deacon Alex Dyakiw":MAILTO:deaconalex@gmail.com
END:VEVENT
BEGIN:VEVENT
DTSTART;TZID=America/New_York:20240213T160000
DTEND;TZID=America/New_York:20240213T180000
DTSTAMP:20260425T111257
CREATED:20240120T122301Z
LAST-MODIFIED:20240120T122301Z
UID:3565-1707840000-1707847200@stjohnsepiscopalbellefonte.org
SUMMARY:Shrove Tuesday Pancake Supper
DESCRIPTION:All-you-can-eat pancake supper at St. John’s Parish Hall. $10 for adults; free for kids 12 and under. Proceeds benefit Bellefonte Youth Center.
URL:https://stjohnsepiscopalbellefonte.org/event/shrove-tuesday-pancake-supper-3/
LOCATION:189 W Lamb St\, Bellefonte
END:VEVENT
BEGIN:VEVENT
DTSTART;TZID=America/New_York:20240210T100000
DTEND;TZID=America/New_York:20240210T113000
DTSTAMP:20260425T111257
CREATED:20240205T152344Z
LAST-MODIFIED:20240210T124259Z
UID:3582-1707559200-1707564600@stjohnsepiscopalbellefonte.org
SUMMARY:Prayer Bead Workshop - St. John's Parish Hall
DESCRIPTION:Learn how to make Anglican prayer bead rosaries and their use and history. All materials provided. Light refreshments will be provided. Proceeds benefit St. Andrew’s Episcopal Church Community Cafe.
URL:https://stjohnsepiscopalbellefonte.org/event/prayer-bead-workshop-st-johns-parish-hall/
LOCATION:189 W Lamb St\, Bellefonte
ORGANIZER;CN="Deacon Alex Dyakiw":MAILTO:deaconalex@gmail.com
END:VEVENT
BEGIN:VEVENT
DTSTART;TZID=America/New_York:20240121T110000
DTEND;TZID=America/New_York:20240121T140000
DTSTAMP:20260425T111257
CREATED:20240120T122430Z
LAST-MODIFIED:20240120T122430Z
UID:3570-1705834800-1705845600@stjohnsepiscopalbellefonte.org
SUMMARY:Annual parish meeting and potluck lunch
DESCRIPTION:Annual meeting following the 10:00 a.m. mass in the church. Pot-luck lunch follows in the parish hall.
URL:https://stjohnsepiscopalbellefonte.org/event/annual-parish-meeting-and-potluck-lunch/
LOCATION:PA
END:VEVENT
BEGIN:VEVENT
DTSTART;TZID=America/New_York:20230521T170000
DTEND;TZID=America/New_York:20230521T180000
DTSTAMP:20260425T111257
CREATED:20230502T195249Z
LAST-MODIFIED:20230502T195249Z
UID:3380-1684688400-1684692000@stjohnsepiscopalbellefonte.org
SUMMARY:Choral Evensong & Benediction of the Blessed Sacrament
DESCRIPTION:A Service of Choral Evensong & Benediction of the Blessed Sacrament will be offered on Sunday\, May 21 at 5:00 P.M. Evensong is one of the jewels of Anglicanism. The service consists of chanted Psalms\, readings from the Bible\, traditional canticles and a Marian anthem\, and prayers both said and sung. Evensong is directly followed by Benediction of the Blessed Sacrament\, a service of prayers and hymns offered in praise of our Lord’s presence in the sacred mysteries of his Body and Blood. Please mark your calendars for our second Evensong & Benediction of the year.
URL:https://stjohnsepiscopalbellefonte.org/event/choral-evensong-benediction-of-the-blessed-sacrament-3/
LOCATION:PA
END:VEVENT
BEGIN:VEVENT
DTSTART;TZID=America/New_York:20230518T173000
DTEND;TZID=America/New_York:20230518T183000
DTSTAMP:20260425T111257
CREATED:20230502T195433Z
LAST-MODIFIED:20230502T195442Z
UID:3383-1684431000-1684434600@stjohnsepiscopalbellefonte.org
SUMMARY:Ascension Day
DESCRIPTION:
URL:https://stjohnsepiscopalbellefonte.org/event/ascension-day/
LOCATION:PA
END:VEVENT
BEGIN:VEVENT
DTSTART;TZID=America/New_York:20230408T200000
DTEND;TZID=America/New_York:20230408T220000
DTSTAMP:20260425T111257
CREATED:20230402T031219Z
LAST-MODIFIED:20230402T031219Z
UID:3334-1680984000-1680991200@stjohnsepiscopalbellefonte.org
SUMMARY:The Great Vigil of Easter
DESCRIPTION:The Great Vigil of Easter begins in total darkness. A new fire and the Paschal (Easter) Candle is lit. In the growing light we hear the great proclamation of Easter (the Exultet)\, we celebrate the sacrament of baptism and renew our baptismal vows\, and then celebrate the first mass of Easter. There is no other liturgy of the Church’s year which more fully expresses the mystery of our redemption through Christ’s death and resurrection.
URL:https://stjohnsepiscopalbellefonte.org/event/the-great-vigil-of-easter-2/
LOCATION:PA
END:VEVENT
BEGIN:VEVENT
DTSTART;TZID=America/New_York:20230407T120000
DTEND;TZID=America/New_York:20230407T133000
DTSTAMP:20260425T111257
CREATED:20230402T031127Z
LAST-MODIFIED:20230402T031127Z
UID:3330-1680868800-1680874200@stjohnsepiscopalbellefonte.org
SUMMARY:Good Friday
DESCRIPTION:On Good Friday\, we proclaim the passion of Christ’s crucifixion and death. In solemn prayer we uphold the needs of our fallen world\, we venerate the holy cross on which hung the world’s salvation\, and then\, in remembrance of his death\, we receive communion\, the sacrament that has been reserved at the Altar of Repose throughout the previous night.
URL:https://stjohnsepiscopalbellefonte.org/event/good-friday-3/
LOCATION:PA
END:VEVENT
BEGIN:VEVENT
DTSTART;TZID=America/New_York:20230406T183000
DTEND;TZID=America/New_York:20230406T200000
DTSTAMP:20260425T111257
CREATED:20230402T031046Z
LAST-MODIFIED:20230402T031046Z
UID:3326-1680805800-1680811200@stjohnsepiscopalbellefonte.org
SUMMARY:Maundy Thursday
DESCRIPTION:On Maundy Thursday\, we recall Christ’s two acts of the night before he died — the washing of his disciples’ feet as an act of service\, and the institution of the Eucharist as a sign and symbol of the reality of his death and resurrection. At the end of the liturgy\, the sacrament of Christ is placed at the Altar of Repose. We are invited to spend time with Christ in the Garden of Gethsemane\, before departing the church\, as he watches and waits.
URL:https://stjohnsepiscopalbellefonte.org/event/maundy-thursday-3/
LOCATION:PA
END:VEVENT
BEGIN:VEVENT
DTSTART;TZID=America/New_York:20230222T183000
DTEND;TZID=America/New_York:20230222T193000
DTSTAMP:20260425T111257
CREATED:20230213T053129Z
LAST-MODIFIED:20230213T053129Z
UID:3281-1677090600-1677094200@stjohnsepiscopalbellefonte.org
SUMMARY:Ash Wednesday: Sung Mass & Impositions of Ashes
DESCRIPTION:
URL:https://stjohnsepiscopalbellefonte.org/event/ash-wednesday-sung-mass-impositions-of-ashes/
LOCATION:PA
END:VEVENT
BEGIN:VEVENT
DTSTART;TZID=America/New_York:20230222T093000
DTEND;TZID=America/New_York:20230222T100000
DTSTAMP:20260425T111257
CREATED:20230213T053052Z
LAST-MODIFIED:20230213T053052Z
UID:3278-1677058200-1677060000@stjohnsepiscopalbellefonte.org
SUMMARY:Ash Wednesday: Low Mass & Impositions of Ashes
DESCRIPTION:
URL:https://stjohnsepiscopalbellefonte.org/event/ash-wednesday-low-mass-impositions-of-ashes/
LOCATION:PA
END:VEVENT
BEGIN:VEVENT
DTSTART;TZID=America/New_York:20230221T160000
DTEND;TZID=America/New_York:20230221T180000
DTSTAMP:20260425T111257
CREATED:20230201T164254Z
LAST-MODIFIED:20230201T164254Z
UID:3261-1676995200-1677002400@stjohnsepiscopalbellefonte.org
SUMMARY:Shrove Tuesday All-You-Can-Eat Pancake Supper
DESCRIPTION:
URL:https://stjohnsepiscopalbellefonte.org/event/shrove-tuesday-all-you-can-eat-pancake-supper/
LOCATION:PA
END:VEVENT
BEGIN:VEVENT
DTSTART;TZID=America/New_York:20230219T170000
DTEND;TZID=America/New_York:20230219T180000
DTSTAMP:20260425T111257
CREATED:20230201T164052Z
LAST-MODIFIED:20230201T164052Z
UID:3258-1676826000-1676829600@stjohnsepiscopalbellefonte.org
SUMMARY:Choral Evensong & Benediction of the Blessed Sacrament
DESCRIPTION:A Service of Choral Evensong & Benediction of the Blessed Sacrament will be offered on Sunday\, February 19 at 5:00 P.M. Evensong is one of the jewels of Anglicanism. The service consists of chanted Psalms\, readings from the Bible\, traditional canticles and a Marian anthem\, and prayers both said and sung. Evensong is directly followed by Benediction of the Blessed Sacrament\, a service of prayers and hymns offered in praise of our Lord’s presence in the sacred mysteries of his Body and Blood. Please mark your calendars for our third Evensong & Benediction of the year.
URL:https://stjohnsepiscopalbellefonte.org/event/choral-evensong-benediction-of-the-blessed-sacrament-2/
LOCATION:PA
END:VEVENT
BEGIN:VEVENT
DTSTART;TZID=America/New_York:20221225T093000
DTEND;TZID=America/New_York:20221225T103000
DTSTAMP:20260425T111257
CREATED:20221206T004117Z
LAST-MODIFIED:20221206T004229Z
UID:3156-1671960600-1671964200@stjohnsepiscopalbellefonte.org
SUMMARY:Christmas Day: Low Mass & Carols
DESCRIPTION:
URL:https://stjohnsepiscopalbellefonte.org/event/christmas-day-low-mass-carols/
LOCATION:PA
END:VEVENT
BEGIN:VEVENT
DTSTART;TZID=America/New_York:20221224T220000
DTEND;TZID=America/New_York:20221224T233000
DTSTAMP:20260425T111257
CREATED:20221222T134546Z
LAST-MODIFIED:20221222T134546Z
UID:3181-1671919200-1671924600@stjohnsepiscopalbellefonte.org
SUMMARY:Christmas Eve: Blessing of the Creche & Solemn Mass
DESCRIPTION:
URL:https://stjohnsepiscopalbellefonte.org/event/christmas-eve-blessing-of-the-creche-solemn-mass-2/
LOCATION:PA
END:VEVENT
BEGIN:VEVENT
DTSTART;TZID=America/New_York:20221224T213000
DTEND;TZID=America/New_York:20221224T220000
DTSTAMP:20260425T111257
CREATED:20221206T004019Z
LAST-MODIFIED:20221206T004019Z
UID:3150-1671917400-1671919200@stjohnsepiscopalbellefonte.org
SUMMARY:Christmas Eve: Carols of the Season
DESCRIPTION:
URL:https://stjohnsepiscopalbellefonte.org/event/christmas-eve-carols-of-the-season/
LOCATION:PA
END:VEVENT
BEGIN:VEVENT
DTSTART;TZID=America/New_York:20221224T163000
DTEND;TZID=America/New_York:20221224T173000
DTSTAMP:20260425T111257
CREATED:20221206T003946Z
LAST-MODIFIED:20221206T003946Z
UID:3147-1671899400-1671903000@stjohnsepiscopalbellefonte.org
SUMMARY:Christ Eve: Family Mass & Nativity Pageant
DESCRIPTION:
URL:https://stjohnsepiscopalbellefonte.org/event/christ-eve-family-mass-nativity-pageant/
LOCATION:PA
END:VEVENT
END:VCALENDAR