BEGIN:VCALENDAR
VERSION:2.0
PRODID:-//St. John&#039;s Bellefonte - ECPv6.15.20//NONSGML v1.0//EN
CALSCALE:GREGORIAN
METHOD:PUBLISH
X-ORIGINAL-URL:https://stjohnsepiscopalbellefonte.org
X-WR-CALDESC:Events for St. John&#039;s Bellefonte
REFRESH-INTERVAL;VALUE=DURATION:PT1H
X-Robots-Tag:noindex
X-PUBLISHED-TTL:PT1H
BEGIN:VTIMEZONE
TZID:America/New_York
BEGIN:DAYLIGHT
TZOFFSETFROM:-0500
TZOFFSETTO:-0400
TZNAME:EDT
DTSTART:20250309T070000
END:DAYLIGHT
BEGIN:STANDARD
TZOFFSETFROM:-0400
TZOFFSETTO:-0500
TZNAME:EST
DTSTART:20251102T060000
END:STANDARD
BEGIN:DAYLIGHT
TZOFFSETFROM:-0500
TZOFFSETTO:-0400
TZNAME:EDT
DTSTART:20260308T070000
END:DAYLIGHT
BEGIN:STANDARD
TZOFFSETFROM:-0400
TZOFFSETTO:-0500
TZNAME:EST
DTSTART:20261101T060000
END:STANDARD
BEGIN:DAYLIGHT
TZOFFSETFROM:-0500
TZOFFSETTO:-0400
TZNAME:EDT
DTSTART:20270314T070000
END:DAYLIGHT
BEGIN:STANDARD
TZOFFSETFROM:-0400
TZOFFSETTO:-0500
TZNAME:EST
DTSTART:20271107T060000
END:STANDARD
END:VTIMEZONE
BEGIN:VEVENT
DTSTART;TZID=America/New_York:20260401T190000
DTEND;TZID=America/New_York:20260401T200000
DTSTAMP:20260423T200817
CREATED:20260222T112601Z
LAST-MODIFIED:20260222T112601Z
UID:4359-1775070000-1775073600@stjohnsepiscopalbellefonte.org
SUMMARY:Tenebrae Service
DESCRIPTION:St. John’s choir\, Penn State Episcopal Choral Scholars\, Cantores Convallis lead this service. The service will include The Lamentations of Jeremiah\, Book One (Tallis)\, as well as motets by Bruckner and Poulenc.
URL:https://stjohnsepiscopalbellefonte.org/event/tenebrae-service/
LOCATION:120 W Lamb St\, Bellefonte\, 120 W Lamb St\, Bellefonte\, PA\, 16823\, United States
END:VEVENT
BEGIN:VEVENT
DTSTART;TZID=America/New_York:20260404T190000
DTEND;TZID=America/New_York:20260404T210000
DTSTAMP:20260423T200817
CREATED:20260404T160901Z
LAST-MODIFIED:20260404T160901Z
UID:4365-1775329200-1775336400@stjohnsepiscopalbellefonte.org
SUMMARY:Holy Saturday service
DESCRIPTION:
URL:https://stjohnsepiscopalbellefonte.org/event/holy-saturday-service/
LOCATION:120 W Lamb St\, Bellefonte\, 120 W Lamb St\, Bellefonte\, PA\, 16823\, United States
END:VEVENT
BEGIN:VEVENT
DTSTART;TZID=America/New_York:20260405T083000
DTEND;TZID=America/New_York:20260405T090000
DTSTAMP:20260423T200817
CREATED:20260404T160959Z
LAST-MODIFIED:20260404T161008Z
UID:4368-1775377800-1775379600@stjohnsepiscopalbellefonte.org
SUMMARY:Easter Day Low Mass
DESCRIPTION:Spoken service with communion
URL:https://stjohnsepiscopalbellefonte.org/event/easter-day-low-mass-2/
LOCATION:PA
END:VEVENT
BEGIN:VEVENT
DTSTART;TZID=America/New_York:20260405T100000
DTEND;TZID=America/New_York:20260405T111500
DTSTAMP:20260423T200817
CREATED:20260404T161200Z
LAST-MODIFIED:20260404T161311Z
UID:4371-1775383200-1775387700@stjohnsepiscopalbellefonte.org
SUMMARY:Festive Easter Day Mass
DESCRIPTION:With brass and choir
URL:https://stjohnsepiscopalbellefonte.org/event/festive-easter-day-mass/
LOCATION:120 W Lamb St\, Bellefonte\, 120 W Lamb St\, Bellefonte\, PA\, 16823\, United States
END:VEVENT
END:VCALENDAR