BEGIN:VCALENDAR
VERSION:2.0
PRODID:-//St. John&#039;s Bellefonte - ECPv6.15.20//NONSGML v1.0//EN
CALSCALE:GREGORIAN
METHOD:PUBLISH
X-WR-CALNAME:St. John&#039;s Bellefonte
X-ORIGINAL-URL:https://stjohnsepiscopalbellefonte.org
X-WR-CALDESC:Events for St. John&#039;s Bellefonte
REFRESH-INTERVAL;VALUE=DURATION:PT1H
X-Robots-Tag:noindex
X-PUBLISHED-TTL:PT1H
BEGIN:VTIMEZONE
TZID:America/New_York
BEGIN:DAYLIGHT
TZOFFSETFROM:-0500
TZOFFSETTO:-0400
TZNAME:EDT
DTSTART:20170312T070000
END:DAYLIGHT
BEGIN:STANDARD
TZOFFSETFROM:-0400
TZOFFSETTO:-0500
TZNAME:EST
DTSTART:20171105T060000
END:STANDARD
BEGIN:DAYLIGHT
TZOFFSETFROM:-0500
TZOFFSETTO:-0400
TZNAME:EDT
DTSTART:20180311T070000
END:DAYLIGHT
BEGIN:STANDARD
TZOFFSETFROM:-0400
TZOFFSETTO:-0500
TZNAME:EST
DTSTART:20181104T060000
END:STANDARD
BEGIN:DAYLIGHT
TZOFFSETFROM:-0500
TZOFFSETTO:-0400
TZNAME:EDT
DTSTART:20190310T070000
END:DAYLIGHT
BEGIN:STANDARD
TZOFFSETFROM:-0400
TZOFFSETTO:-0500
TZNAME:EST
DTSTART:20191103T060000
END:STANDARD
END:VTIMEZONE
BEGIN:VEVENT
DTSTART;TZID=America/New_York:20180408T110000
DTEND;TZID=America/New_York:20180408T120000
DTSTAMP:20260425T065826
CREATED:20180402T015502Z
LAST-MODIFIED:20180402T015502Z
UID:1323-1523185200-1523188800@stjohnsepiscopalbellefonte.org
SUMMARY:Search committee meeting
DESCRIPTION:
URL:https://stjohnsepiscopalbellefonte.org/event/search-committee-meeting/
LOCATION:Sunday School room\, 120 W Lamb St\, Bellefonte\, PA\, 16823\, United States
END:VEVENT
BEGIN:VEVENT
DTSTART;TZID=America/New_York:20180325T080000
DTEND;TZID=America/New_York:20180401T080000
DTSTAMP:20260425T065826
CREATED:20180321T191616Z
LAST-MODIFIED:20180322T205844Z
UID:1245-1521964800-1522569600@stjohnsepiscopalbellefonte.org
SUMMARY:Holy Week Schedule
DESCRIPTION:
URL:https://stjohnsepiscopalbellefonte.org/event/holy-week-schedule/
END:VEVENT
BEGIN:VEVENT
DTSTART;TZID=America/New_York:20180317T160000
DTEND;TZID=America/New_York:20180317T190000
DTSTAMP:20260425T065826
CREATED:20180310T012651Z
LAST-MODIFIED:20180310T012651Z
UID:1075-1521302400-1521313200@stjohnsepiscopalbellefonte.org
SUMMARY:Corned Beef & Cabbage dinner
DESCRIPTION:
URL:https://stjohnsepiscopalbellefonte.org/event/corned-beef-cabbage-dinner/
LOCATION:St. John’s Episcopal Parish Hall\, 120 W Lamb St\, Bellefonte\, PA\, 16823\, United States
END:VEVENT
BEGIN:VEVENT
DTSTART;VALUE=DATE:20180225
DTEND;VALUE=DATE:20180226
DTSTAMP:20260425T065826
CREATED:20180213T052336Z
LAST-MODIFIED:20180213T052336Z
UID:507-1519516800-1519603199@stjohnsepiscopalbellefonte.org
SUMMARY:Second Sunday of Lent
DESCRIPTION:
URL:https://stjohnsepiscopalbellefonte.org/event/second-sunday-of-lent/
END:VEVENT
BEGIN:VEVENT
DTSTART;TZID=America/New_York:20180221T193000
DTEND;TZID=America/New_York:20180221T203000
DTSTAMP:20260425T065826
CREATED:20180213T052309Z
LAST-MODIFIED:20180213T052309Z
UID:504-1519241400-1519245000@stjohnsepiscopalbellefonte.org
SUMMARY:Vestry Meeting
DESCRIPTION:
URL:https://stjohnsepiscopalbellefonte.org/event/vestry-meeting/
END:VEVENT
BEGIN:VEVENT
DTSTART;VALUE=DATE:20180218
DTEND;VALUE=DATE:20180219
DTSTAMP:20260425T065826
CREATED:20180213T052159Z
LAST-MODIFIED:20180213T052159Z
UID:501-1518912000-1518998399@stjohnsepiscopalbellefonte.org
SUMMARY:First Sunday of Lent
DESCRIPTION:
URL:https://stjohnsepiscopalbellefonte.org/event/first-sunday-of-lent/
END:VEVENT
BEGIN:VEVENT
DTSTART;TZID=America/New_York:20180214T190000
DTEND;TZID=America/New_York:20180214T210000
DTSTAMP:20260425T065826
CREATED:20180213T052133Z
LAST-MODIFIED:20180213T052133Z
UID:498-1518634800-1518642000@stjohnsepiscopalbellefonte.org
SUMMARY:High Mass/Ashes
DESCRIPTION:
URL:https://stjohnsepiscopalbellefonte.org/event/high-mass-ashes/
END:VEVENT
BEGIN:VEVENT
DTSTART;TZID=America/New_York:20180214T093000
DTEND;TZID=America/New_York:20180214T230000
DTSTAMP:20260425T065826
CREATED:20180213T052010Z
LAST-MODIFIED:20180213T052010Z
UID:494-1518600600-1518649200@stjohnsepiscopalbellefonte.org
SUMMARY:Low Mass/Ashes
DESCRIPTION:
URL:https://stjohnsepiscopalbellefonte.org/event/low-mass-ashes/
END:VEVENT
BEGIN:VEVENT
DTSTART;VALUE=DATE:20180214
DTEND;VALUE=DATE:20180215
DTSTAMP:20260425T065826
CREATED:20180213T051854Z
LAST-MODIFIED:20180213T052057Z
UID:491-1518566400-1518652799@stjohnsepiscopalbellefonte.org
SUMMARY:Ash Wednesday
DESCRIPTION:
URL:https://stjohnsepiscopalbellefonte.org/event/ash-wednesday/
END:VEVENT
END:VCALENDAR