BEGIN:VCALENDAR
VERSION:2.0
PRODID:-//St. John&#039;s Bellefonte - ECPv6.15.20//NONSGML v1.0//EN
CALSCALE:GREGORIAN
METHOD:PUBLISH
X-WR-CALNAME:St. John&#039;s Bellefonte
X-ORIGINAL-URL:https://stjohnsepiscopalbellefonte.org
X-WR-CALDESC:Events for St. John&#039;s Bellefonte
REFRESH-INTERVAL;VALUE=DURATION:PT1H
X-Robots-Tag:noindex
X-PUBLISHED-TTL:PT1H
BEGIN:VTIMEZONE
TZID:America/New_York
BEGIN:DAYLIGHT
TZOFFSETFROM:-0500
TZOFFSETTO:-0400
TZNAME:EDT
DTSTART:20190310T070000
END:DAYLIGHT
BEGIN:STANDARD
TZOFFSETFROM:-0400
TZOFFSETTO:-0500
TZNAME:EST
DTSTART:20191103T060000
END:STANDARD
BEGIN:DAYLIGHT
TZOFFSETFROM:-0500
TZOFFSETTO:-0400
TZNAME:EDT
DTSTART:20200308T070000
END:DAYLIGHT
BEGIN:STANDARD
TZOFFSETFROM:-0400
TZOFFSETTO:-0500
TZNAME:EST
DTSTART:20201101T060000
END:STANDARD
BEGIN:DAYLIGHT
TZOFFSETFROM:-0500
TZOFFSETTO:-0400
TZNAME:EDT
DTSTART:20210314T070000
END:DAYLIGHT
BEGIN:STANDARD
TZOFFSETFROM:-0400
TZOFFSETTO:-0500
TZNAME:EST
DTSTART:20211107T060000
END:STANDARD
BEGIN:DAYLIGHT
TZOFFSETFROM:-0500
TZOFFSETTO:-0400
TZNAME:EDT
DTSTART:20220313T070000
END:DAYLIGHT
BEGIN:STANDARD
TZOFFSETFROM:-0400
TZOFFSETTO:-0500
TZNAME:EST
DTSTART:20221106T060000
END:STANDARD
BEGIN:DAYLIGHT
TZOFFSETFROM:-0500
TZOFFSETTO:-0400
TZNAME:EDT
DTSTART:20230312T070000
END:DAYLIGHT
BEGIN:STANDARD
TZOFFSETFROM:-0400
TZOFFSETTO:-0500
TZNAME:EST
DTSTART:20231105T060000
END:STANDARD
BEGIN:DAYLIGHT
TZOFFSETFROM:-0500
TZOFFSETTO:-0400
TZNAME:EDT
DTSTART:20240310T070000
END:DAYLIGHT
BEGIN:STANDARD
TZOFFSETFROM:-0400
TZOFFSETTO:-0500
TZNAME:EST
DTSTART:20241103T060000
END:STANDARD
END:VTIMEZONE
BEGIN:VEVENT
DTSTART;TZID=America/New_York:20230222T093000
DTEND;TZID=America/New_York:20230222T100000
DTSTAMP:20260425T062229
CREATED:20230213T053052Z
LAST-MODIFIED:20230213T053052Z
UID:3278-1677058200-1677060000@stjohnsepiscopalbellefonte.org
SUMMARY:Ash Wednesday: Low Mass & Impositions of Ashes
DESCRIPTION:
URL:https://stjohnsepiscopalbellefonte.org/event/ash-wednesday-low-mass-impositions-of-ashes/
LOCATION:PA
END:VEVENT
BEGIN:VEVENT
DTSTART;TZID=America/New_York:20230221T160000
DTEND;TZID=America/New_York:20230221T180000
DTSTAMP:20260425T062229
CREATED:20230201T164254Z
LAST-MODIFIED:20230201T164254Z
UID:3261-1676995200-1677002400@stjohnsepiscopalbellefonte.org
SUMMARY:Shrove Tuesday All-You-Can-Eat Pancake Supper
DESCRIPTION:
URL:https://stjohnsepiscopalbellefonte.org/event/shrove-tuesday-all-you-can-eat-pancake-supper/
LOCATION:PA
END:VEVENT
BEGIN:VEVENT
DTSTART;TZID=America/New_York:20230219T170000
DTEND;TZID=America/New_York:20230219T180000
DTSTAMP:20260425T062229
CREATED:20230201T164052Z
LAST-MODIFIED:20230201T164052Z
UID:3258-1676826000-1676829600@stjohnsepiscopalbellefonte.org
SUMMARY:Choral Evensong & Benediction of the Blessed Sacrament
DESCRIPTION:A Service of Choral Evensong & Benediction of the Blessed Sacrament will be offered on Sunday\, February 19 at 5:00 P.M. Evensong is one of the jewels of Anglicanism. The service consists of chanted Psalms\, readings from the Bible\, traditional canticles and a Marian anthem\, and prayers both said and sung. Evensong is directly followed by Benediction of the Blessed Sacrament\, a service of prayers and hymns offered in praise of our Lord’s presence in the sacred mysteries of his Body and Blood. Please mark your calendars for our third Evensong & Benediction of the year.
URL:https://stjohnsepiscopalbellefonte.org/event/choral-evensong-benediction-of-the-blessed-sacrament-2/
LOCATION:PA
END:VEVENT
BEGIN:VEVENT
DTSTART;TZID=America/New_York:20221225T093000
DTEND;TZID=America/New_York:20221225T103000
DTSTAMP:20260425T062229
CREATED:20221206T004117Z
LAST-MODIFIED:20221206T004229Z
UID:3156-1671960600-1671964200@stjohnsepiscopalbellefonte.org
SUMMARY:Christmas Day: Low Mass & Carols
DESCRIPTION:
URL:https://stjohnsepiscopalbellefonte.org/event/christmas-day-low-mass-carols/
LOCATION:PA
END:VEVENT
BEGIN:VEVENT
DTSTART;TZID=America/New_York:20221224T220000
DTEND;TZID=America/New_York:20221224T233000
DTSTAMP:20260425T062229
CREATED:20221222T134546Z
LAST-MODIFIED:20221222T134546Z
UID:3181-1671919200-1671924600@stjohnsepiscopalbellefonte.org
SUMMARY:Christmas Eve: Blessing of the Creche & Solemn Mass
DESCRIPTION:
URL:https://stjohnsepiscopalbellefonte.org/event/christmas-eve-blessing-of-the-creche-solemn-mass-2/
LOCATION:PA
END:VEVENT
BEGIN:VEVENT
DTSTART;TZID=America/New_York:20221224T213000
DTEND;TZID=America/New_York:20221224T220000
DTSTAMP:20260425T062229
CREATED:20221206T004019Z
LAST-MODIFIED:20221206T004019Z
UID:3150-1671917400-1671919200@stjohnsepiscopalbellefonte.org
SUMMARY:Christmas Eve: Carols of the Season
DESCRIPTION:
URL:https://stjohnsepiscopalbellefonte.org/event/christmas-eve-carols-of-the-season/
LOCATION:PA
END:VEVENT
BEGIN:VEVENT
DTSTART;TZID=America/New_York:20221224T163000
DTEND;TZID=America/New_York:20221224T173000
DTSTAMP:20260425T062229
CREATED:20221206T003946Z
LAST-MODIFIED:20221206T003946Z
UID:3147-1671899400-1671903000@stjohnsepiscopalbellefonte.org
SUMMARY:Christ Eve: Family Mass & Nativity Pageant
DESCRIPTION:
URL:https://stjohnsepiscopalbellefonte.org/event/christ-eve-family-mass-nativity-pageant/
LOCATION:PA
END:VEVENT
BEGIN:VEVENT
DTSTART;TZID=America/New_York:20221218T170000
DTEND;TZID=America/New_York:20221218T180000
DTSTAMP:20260425T062229
CREATED:20221206T003910Z
LAST-MODIFIED:20221206T003910Z
UID:3144-1671382800-1671386400@stjohnsepiscopalbellefonte.org
SUMMARY:A Festival of Christmas Lessons & Carols
DESCRIPTION:
URL:https://stjohnsepiscopalbellefonte.org/event/a-festival-of-christmas-lessons-carols/
LOCATION:PA
END:VEVENT
BEGIN:VEVENT
DTSTART;TZID=America/New_York:20221205T080000
DTEND;TZID=America/New_York:20221205T170000
DTSTAMP:20260425T062229
CREATED:20221206T004059Z
LAST-MODIFIED:20221206T004059Z
UID:3153-1670227200-1670259600@stjohnsepiscopalbellefonte.org
SUMMARY:Christmas Eve: Blessing of the Crèche & Solemn Mass
DESCRIPTION:
URL:https://stjohnsepiscopalbellefonte.org/event/christmas-eve-blessing-of-the-creche-solemn-mass/
LOCATION:PA
END:VEVENT
BEGIN:VEVENT
DTSTART;TZID=America/New_York:20221101T173000
DTEND;TZID=America/New_York:20221101T183000
DTSTAMP:20260425T062229
CREATED:20221025T175707Z
LAST-MODIFIED:20221025T175707Z
UID:3100-1667323800-1667327400@stjohnsepiscopalbellefonte.org
SUMMARY:The Feast of All Saints
DESCRIPTION:Celebrate the glorious feast of All Saints at Saint John’s. We will begin with Low Mass accompanied by organ music and cantor. A brief homily will be delivered by our seminarian\, Kevin Lowe. For dinner we will enjoy a Mexican-inspired dinner: chicken tinga\, refried beans\, guacamole and chips\, chopped salad\, a pumpkin dessert\, and wine and soft drinks. Bring your prayers and a hearty appetite.
URL:https://stjohnsepiscopalbellefonte.org/event/the-feast-of-all-saints/
LOCATION:PA
END:VEVENT
BEGIN:VEVENT
DTSTART;TZID=America/New_York:20221001T100000
DTEND;TZID=America/New_York:20221001T120000
DTSTAMP:20260425T062229
CREATED:20220905T032731Z
LAST-MODIFIED:20220905T032731Z
UID:3058-1664618400-1664625600@stjohnsepiscopalbellefonte.org
SUMMARY:Saint Francis Family Day
DESCRIPTION:Families with young children; grandparents and grandchildren; and parishioners with little ones in their lives are all invited to our Saint Francis Family Day. In honor and thanksgiving for Saint Francis of Assisi\, we will be offering a morning of family activities\, learning\, worship\, and feasting. Come celebrate everyone’s favorite animal-loving Saint! Please confirm your attendance by contacting Ellen Dyakiw: setinsun@aol.com
URL:https://stjohnsepiscopalbellefonte.org/event/saint-francis-family-day/
LOCATION:PA
END:VEVENT
BEGIN:VEVENT
DTSTART;TZID=America/New_York:20220928T173000
DTEND;TZID=America/New_York:20220928T183000
DTSTAMP:20260425T062229
CREATED:20220905T032603Z
LAST-MODIFIED:20220923T035533Z
UID:3055-1664386200-1664389800@stjohnsepiscopalbellefonte.org
SUMMARY:Eve of Michaelmas *New Date*
DESCRIPTION:Let us keep the Feast! is our monthly worship and dinner series that celebrates feast days of the Church that would otherwise go unobserved. Each gathering will begin with mass in the church\, followed by dinner in the Fellowship Hall. Join us we celebrate the Feast of Saint Michael & All Angels.
URL:https://stjohnsepiscopalbellefonte.org/event/the-feast-of-saint-michael-all-angels/
LOCATION:PA
END:VEVENT
BEGIN:VEVENT
DTSTART;TZID=America/New_York:20220925T170000
DTEND;TZID=America/New_York:20220925T180000
DTSTAMP:20260425T062229
CREATED:20220905T032358Z
LAST-MODIFIED:20220905T032358Z
UID:3052-1664125200-1664128800@stjohnsepiscopalbellefonte.org
SUMMARY:Choral Evensong & Benediction of the Blessed Sacrament
DESCRIPTION:A Service of Choral Evensong & Benediction of the Blessed Sacrament will be offered on Sunday\, September 25 at 5:00 P.M. Evensong is one of the jewels of Anglicanism. The service consists of chanted Psalms\, readings from the Bible\, traditional canticles\, a Marian anthem\, and prayers\, both said and sung. Evensong is directly followed by Benediction of the Blessed Sacrament\, a service of prayers and hymns offered in praise of our Lord’s presence in the sacred mysteries of his Body and Blood. Please mark your calendars for our third Evensong & Benediction of the year
URL:https://stjohnsepiscopalbellefonte.org/event/choral-evensong-benediction-of-the-blessed-sacrament/
LOCATION:PA
END:VEVENT
BEGIN:VEVENT
DTSTART;TZID=America/New_York:20220416T200000
DTEND;TZID=America/New_York:20220416T220000
DTSTAMP:20260425T062229
CREATED:20220405T002226Z
LAST-MODIFIED:20220405T002226Z
UID:2914-1650139200-1650146400@stjohnsepiscopalbellefonte.org
SUMMARY:The Great Vigil
DESCRIPTION:The Great Vigil of Easter begins in total darkness. A new fire and the Paschal (Easter) Candle is lit. In the growing light we hear the great proclamation of Easter (the Exultet)\, we celebrate the sacrament of baptism and renew our baptismal vows\, and then celebrate the first mass of Easter. There is no other liturgy of the Church’s year which more fully expresses the mystery of our redemption through Christ’s death and resurrection.
URL:https://stjohnsepiscopalbellefonte.org/event/the-great-vigil/
LOCATION:PA
END:VEVENT
BEGIN:VEVENT
DTSTART;TZID=America/New_York:20220415T120000
DTEND;TZID=America/New_York:20220415T140000
DTSTAMP:20260425T062229
CREATED:20220405T002108Z
LAST-MODIFIED:20220405T002108Z
UID:2911-1650024000-1650031200@stjohnsepiscopalbellefonte.org
SUMMARY:Good Friday
DESCRIPTION:On Good Friday\, we proclaim the passion of Christ’s crucifixion and death. In solemn prayer we uphold the needs of our fallen world\, we venerate the holy cross on which hung the world’s salvation\, and then\, in remembrance of his death\, we receive communion\, the sacrament that has been reserved at the Altar of Repose throughout the previous night.
URL:https://stjohnsepiscopalbellefonte.org/event/good-friday-2/
LOCATION:PA
END:VEVENT
BEGIN:VEVENT
DTSTART;TZID=America/New_York:20220414T183000
DTEND;TZID=America/New_York:20220414T200000
DTSTAMP:20260425T062229
CREATED:20220405T001847Z
LAST-MODIFIED:20220405T001847Z
UID:2908-1649961000-1649966400@stjohnsepiscopalbellefonte.org
SUMMARY:Maundy Thursday
DESCRIPTION:On Maundy Thursday\, we recall Christ’s two acts of the night before he died — the washing of his disciples’ feet as an act of service\, and the institution of the Eucharist as a sign and symbol of the reality of his death and resurrection. At the end of the liturgy\, the sacrament of Christ is placed at the Altar of Repose. We are invited to spend time with Christ in the Garden of Gethsemane\, before departing the church\, as he watches and waits.
URL:https://stjohnsepiscopalbellefonte.org/event/maundy-thursday-2/
LOCATION:PA
END:VEVENT
BEGIN:VEVENT
DTSTART;TZID=America/New_York:20220410T103000
DTEND;TZID=America/New_York:20220410T113000
DTSTAMP:20260425T062229
CREATED:20220404T233620Z
LAST-MODIFIED:20220404T233630Z
UID:2888-1649586600-1649590200@stjohnsepiscopalbellefonte.org
SUMMARY:Palm Sunday
DESCRIPTION:Palm Sunday is a day of sharp contrast. We begin the liturgy recalling Christ’s triumphant entry into Jerusalem. With those who greeted him that day\, we too wave our palms and shout “Hosanna in the highest”. The story of Christ’s passion\, crucifixion and death is told\, and we leave prepared to enter deeply into this holiest of weeks.\n9:00am Blessing of the Palms & Low Mass\n10:30am Blessing of the Palms & Solemn Mass
URL:https://stjohnsepiscopalbellefonte.org/event/palm-sunday/
LOCATION:PA
END:VEVENT
BEGIN:VEVENT
DTSTART;TZID=America/New_York:20220319T150000
DTEND;TZID=America/New_York:20220319T180000
DTSTAMP:20260425T062229
CREATED:20220303T185723Z
LAST-MODIFIED:20220303T185723Z
UID:2856-1647702000-1647712800@stjohnsepiscopalbellefonte.org
SUMMARY:Corned Beef & Cabbage Dinner Fundraiser
DESCRIPTION:
URL:https://stjohnsepiscopalbellefonte.org/event/corned-beef-cabbage-dinner-fundraiser/
LOCATION:PA
END:VEVENT
BEGIN:VEVENT
DTSTART;TZID=America/New_York:20220319T100000
DTEND;TZID=America/New_York:20220319T120000
DTSTAMP:20260425T062229
CREATED:20220303T185645Z
LAST-MODIFIED:20220303T185645Z
UID:2853-1647684000-1647691200@stjohnsepiscopalbellefonte.org
SUMMARY:Saint Joseph's Family Day
DESCRIPTION:
URL:https://stjohnsepiscopalbellefonte.org/event/saint-josephs-family-day/
LOCATION:PA
END:VEVENT
BEGIN:VEVENT
DTSTART;TZID=America/New_York:20220304T173000
DTEND;TZID=America/New_York:20220304T180000
DTSTAMP:20260425T062229
CREATED:20220303T185524Z
LAST-MODIFIED:20220303T185524Z
UID:2850-1646415000-1646416800@stjohnsepiscopalbellefonte.org
SUMMARY:Stations of the Cross
DESCRIPTION:Stations of the Cross \nFollowed by soup supper in the Fellowship Hall
URL:https://stjohnsepiscopalbellefonte.org/event/stations-of-the-cross/
LOCATION:PA
END:VEVENT
BEGIN:VEVENT
DTSTART;TZID=America/New_York:20220302T183000
DTEND;TZID=America/New_York:20220302T193000
DTSTAMP:20260425T062229
CREATED:20220301T034431Z
LAST-MODIFIED:20220301T034431Z
UID:2833-1646245800-1646249400@stjohnsepiscopalbellefonte.org
SUMMARY:Sung Mass & Imposition of Ashes
DESCRIPTION:
URL:https://stjohnsepiscopalbellefonte.org/event/sung-mass-imposition-of-ashes/
LOCATION:PA
END:VEVENT
BEGIN:VEVENT
DTSTART;TZID=America/New_York:20220302T093000
DTEND;TZID=America/New_York:20220302T100000
DTSTAMP:20260425T062229
CREATED:20220301T034334Z
LAST-MODIFIED:20220301T034334Z
UID:2830-1646213400-1646215200@stjohnsepiscopalbellefonte.org
SUMMARY:Low Mass & Imposition of Ashes
DESCRIPTION:
URL:https://stjohnsepiscopalbellefonte.org/event/low-mass-imposition-of-ashes-2/
LOCATION:PA
END:VEVENT
BEGIN:VEVENT
DTSTART;TZID=America/New_York:20211224T220000
DTEND;TZID=America/New_York:20211224T233000
DTSTAMP:20260425T062229
CREATED:20211205T022947Z
LAST-MODIFIED:20211205T022947Z
UID:2769-1640383200-1640388600@stjohnsepiscopalbellefonte.org
SUMMARY:Christmas Eve: Solemn High Mass
DESCRIPTION:
URL:https://stjohnsepiscopalbellefonte.org/event/christmas-eve-solemn-high-mass/
LOCATION:PA
END:VEVENT
BEGIN:VEVENT
DTSTART;TZID=America/New_York:20211224T213000
DTEND;TZID=America/New_York:20211224T220000
DTSTAMP:20260425T062229
CREATED:20211205T023016Z
LAST-MODIFIED:20211205T023016Z
UID:2772-1640381400-1640383200@stjohnsepiscopalbellefonte.org
SUMMARY:Carols of the Season
DESCRIPTION:
URL:https://stjohnsepiscopalbellefonte.org/event/carols-of-the-season/
LOCATION:PA
END:VEVENT
BEGIN:VEVENT
DTSTART;TZID=America/New_York:20211224T163000
DTEND;TZID=America/New_York:20211224T180000
DTSTAMP:20260425T062229
CREATED:20211205T022855Z
LAST-MODIFIED:20211205T022918Z
UID:2765-1640363400-1640368800@stjohnsepiscopalbellefonte.org
SUMMARY:Christmas Eve: Family Mass & Nativity Pageant
DESCRIPTION:
URL:https://stjohnsepiscopalbellefonte.org/event/family-mass-nativity-pageant-2/
LOCATION:PA
END:VEVENT
BEGIN:VEVENT
DTSTART;TZID=America/New_York:20211214T173000
DTEND;TZID=America/New_York:20211214T190000
DTSTAMP:20260425T062229
CREATED:20211205T131132Z
LAST-MODIFIED:20211205T131216Z
UID:2778-1639503000-1639508400@stjohnsepiscopalbellefonte.org
SUMMARY:Let Us Keep the Feast! - Worship + Dinner
DESCRIPTION:Join us on Tuesday\, December 14 at 5:30pm for our observance of the feast of Saint John of the Cross. We will begin with Low Mass\, accompanied by organ music and a cantor\, followed by dinner in the Parish Hall.
URL:https://stjohnsepiscopalbellefonte.org/event/let-us-keep-the-feast-worship-dinner/
LOCATION:PA
END:VEVENT
BEGIN:VEVENT
DTSTART;TZID=America/New_York:20210320T150000
DTEND;TZID=America/New_York:20210320T180000
DTSTAMP:20260425T062229
CREATED:20210319T123012Z
LAST-MODIFIED:20210320T000816Z
UID:2567-1616252400-1616263200@stjohnsepiscopalbellefonte.org
SUMMARY:Corned beef & cabbage dinner
DESCRIPTION:
URL:https://stjohnsepiscopalbellefonte.org/event/corned-beef-cabbage-dinner-3/
LOCATION:189 W Lamb St\, Bellefonte
ORGANIZER;CN="Deacon Alex Dyakiw":MAILTO:deaconalex@gmail.com
END:VEVENT
BEGIN:VEVENT
DTSTART;TZID=America/New_York:20201225T090000
DTEND;TZID=America/New_York:20201225T093000
DTSTAMP:20260425T062229
CREATED:20201218T140749Z
LAST-MODIFIED:20201218T140749Z
UID:2476-1608886800-1608888600@stjohnsepiscopalbellefonte.org
SUMMARY:Low Mass of Christmas
DESCRIPTION:Watch the livestream on Facebook: facebook.com/stjohnsepiscopalbellefonte/live \nand YouTube: youtube.com/channel/UCiUpcWj0qW7kJS2-A15W4YQ/
URL:https://stjohnsepiscopalbellefonte.org/event/low-mass-of-christmas/
LOCATION:PA
END:VEVENT
BEGIN:VEVENT
DTSTART;TZID=America/New_York:20201224T170000
DTEND;TZID=America/New_York:20201224T180000
DTSTAMP:20260425T062229
CREATED:20201218T140657Z
LAST-MODIFIED:20201218T140657Z
UID:2473-1608829200-1608832800@stjohnsepiscopalbellefonte.org
SUMMARY:Sung Mass of Christmas
DESCRIPTION:Watch the livestream on Facebook: facebook.com/stjohnsepiscopalbellefonte/live \nand YouTube: youtube.com/channel/UCiUpcWj0qW7kJS2-A15W4YQ/
URL:https://stjohnsepiscopalbellefonte.org/event/sung-mass-of-christmas/
LOCATION:PA
END:VEVENT
BEGIN:VEVENT
DTSTART;TZID=America/New_York:20201224T153000
DTEND;TZID=America/New_York:20201224T160000
DTSTAMP:20260425T062229
CREATED:20201218T135634Z
LAST-MODIFIED:20201223T022015Z
UID:2470-1608823800-1608825600@stjohnsepiscopalbellefonte.org
SUMMARY:Drive-in Christmas Caroling in front of the Rectory
DESCRIPTION:
URL:https://stjohnsepiscopalbellefonte.org/event/christmas-caroling-in-front-of-the-rectory/
LOCATION:PA
END:VEVENT
END:VCALENDAR