BEGIN:VCALENDAR
VERSION:2.0
PRODID:-//St. John&#039;s Bellefonte - ECPv6.15.20//NONSGML v1.0//EN
CALSCALE:GREGORIAN
METHOD:PUBLISH
X-WR-CALNAME:St. John&#039;s Bellefonte
X-ORIGINAL-URL:https://stjohnsepiscopalbellefonte.org
X-WR-CALDESC:Events for St. John&#039;s Bellefonte
REFRESH-INTERVAL;VALUE=DURATION:PT1H
X-Robots-Tag:noindex
X-PUBLISHED-TTL:PT1H
BEGIN:VTIMEZONE
TZID:America/New_York
BEGIN:DAYLIGHT
TZOFFSETFROM:-0500
TZOFFSETTO:-0400
TZNAME:EDT
DTSTART:20170312T070000
END:DAYLIGHT
BEGIN:STANDARD
TZOFFSETFROM:-0400
TZOFFSETTO:-0500
TZNAME:EST
DTSTART:20171105T060000
END:STANDARD
BEGIN:DAYLIGHT
TZOFFSETFROM:-0500
TZOFFSETTO:-0400
TZNAME:EDT
DTSTART:20180311T070000
END:DAYLIGHT
BEGIN:STANDARD
TZOFFSETFROM:-0400
TZOFFSETTO:-0500
TZNAME:EST
DTSTART:20181104T060000
END:STANDARD
BEGIN:DAYLIGHT
TZOFFSETFROM:-0500
TZOFFSETTO:-0400
TZNAME:EDT
DTSTART:20190310T070000
END:DAYLIGHT
BEGIN:STANDARD
TZOFFSETFROM:-0400
TZOFFSETTO:-0500
TZNAME:EST
DTSTART:20191103T060000
END:STANDARD
BEGIN:DAYLIGHT
TZOFFSETFROM:-0500
TZOFFSETTO:-0400
TZNAME:EDT
DTSTART:20200308T070000
END:DAYLIGHT
BEGIN:STANDARD
TZOFFSETFROM:-0400
TZOFFSETTO:-0500
TZNAME:EST
DTSTART:20201101T060000
END:STANDARD
END:VTIMEZONE
BEGIN:VEVENT
DTSTART;TZID=America/New_York:20190424T093000
DTEND;TZID=America/New_York:20190424T100000
DTSTAMP:20260425T110507
CREATED:20190409T233721Z
LAST-MODIFIED:20190409T233721Z
UID:1670-1556098200-1556100000@stjohnsepiscopalbellefonte.org
SUMMARY:Healing Mass
DESCRIPTION:
URL:https://stjohnsepiscopalbellefonte.org/event/healing-mass/
END:VEVENT
BEGIN:VEVENT
DTSTART;TZID=America/New_York:20190423T190000
DTEND;TZID=America/New_York:20190423T200000
DTSTAMP:20260425T110507
CREATED:20190409T233633Z
LAST-MODIFIED:20190409T233633Z
UID:1667-1556046000-1556049600@stjohnsepiscopalbellefonte.org
SUMMARY:Book discussion group
DESCRIPTION:
URL:https://stjohnsepiscopalbellefonte.org/event/book-discussion-group/
END:VEVENT
BEGIN:VEVENT
DTSTART;TZID=America/New_York:20190422T190000
DTEND;TZID=America/New_York:20190422T200000
DTSTAMP:20260425T110507
CREATED:20190409T233545Z
LAST-MODIFIED:20190409T233545Z
UID:1664-1555959600-1555963200@stjohnsepiscopalbellefonte.org
SUMMARY:Men's Spiritual Group
DESCRIPTION:
URL:https://stjohnsepiscopalbellefonte.org/event/mens-spiritual-group/
LOCATION:337 E Curtin St.\, Bellefonte\, PA\, United States
END:VEVENT
BEGIN:VEVENT
DTSTART;TZID=America/New_York:20190421T100000
DTEND;TZID=America/New_York:20190421T113000
DTSTAMP:20260425T110507
CREATED:20190409T234322Z
LAST-MODIFIED:20190409T234428Z
UID:1677-1555840800-1555846200@stjohnsepiscopalbellefonte.org
SUMMARY:Easter Sunday: Mass at 8 and 10
DESCRIPTION:
URL:https://stjohnsepiscopalbellefonte.org/event/easter-sunday-mass-at-8-and-10/
END:VEVENT
BEGIN:VEVENT
DTSTART;TZID=America/New_York:20190420T200000
DTEND;TZID=America/New_York:20190420T220000
DTSTAMP:20260425T110507
CREATED:20190409T233420Z
LAST-MODIFIED:20190409T233420Z
UID:1661-1555790400-1555797600@stjohnsepiscopalbellefonte.org
SUMMARY:Holy Saturday/Great Vigil
DESCRIPTION:Wine and cheese reception following in the Parish Hall. All are invited.
URL:https://stjohnsepiscopalbellefonte.org/event/holy-saturday-great-vigil/
END:VEVENT
BEGIN:VEVENT
DTSTART;TZID=America/New_York:20190419T190000
DTEND;TZID=America/New_York:20190419T203000
DTSTAMP:20260425T110507
CREATED:20190409T233238Z
LAST-MODIFIED:20190409T233238Z
UID:1658-1555700400-1555705800@stjohnsepiscopalbellefonte.org
SUMMARY:Good Friday Reading of the Passion\, Veneration of the Cross
DESCRIPTION:
URL:https://stjohnsepiscopalbellefonte.org/event/good-friday-reading-of-the-passion-veneration-of-the-cross/
END:VEVENT
BEGIN:VEVENT
DTSTART;TZID=America/New_York:20190418T190000
DTEND;TZID=America/New_York:20190418T201500
DTSTAMP:20260425T110507
CREATED:20190409T233101Z
LAST-MODIFIED:20190409T233101Z
UID:1653-1555614000-1555618500@stjohnsepiscopalbellefonte.org
SUMMARY:Maundy Thursday Foot Washing\, Procession to Altar of Repose
DESCRIPTION:
URL:https://stjohnsepiscopalbellefonte.org/event/maundy-thursday-foot-washing-procession-to-altar-of-repose/
LOCATION:189 W Lamb St\, Bellefonte
END:VEVENT
BEGIN:VEVENT
DTSTART;TZID=America/New_York:20190417T093000
DTEND;TZID=America/New_York:20190417T100000
DTSTAMP:20260425T110507
CREATED:20190409T232708Z
LAST-MODIFIED:20190409T232708Z
UID:1649-1555493400-1555495200@stjohnsepiscopalbellefonte.org
SUMMARY:Holy Wednesday spoken Eucharist
DESCRIPTION:
URL:https://stjohnsepiscopalbellefonte.org/event/holy-wednesday-spoken-eucharist/
LOCATION:Back of church
END:VEVENT
BEGIN:VEVENT
DTSTART;TZID=America/New_York:20190416T093000
DTEND;TZID=America/New_York:20190416T100000
DTSTAMP:20260425T110507
CREATED:20190409T232607Z
LAST-MODIFIED:20190409T232803Z
UID:1646-1555407000-1555408800@stjohnsepiscopalbellefonte.org
SUMMARY:Holy Tuesday spoken Eucharist
DESCRIPTION:
URL:https://stjohnsepiscopalbellefonte.org/event/holy-tuesday-spoken-eucharist/
LOCATION:Back of church
END:VEVENT
BEGIN:VEVENT
DTSTART;TZID=America/New_York:20190415T093000
DTEND;TZID=America/New_York:20190415T100000
DTSTAMP:20260425T110507
CREATED:20190409T232429Z
LAST-MODIFIED:20190409T232515Z
UID:1640-1555320600-1555322400@stjohnsepiscopalbellefonte.org
SUMMARY:Holy Monday spoken Eucharist
DESCRIPTION:
URL:https://stjohnsepiscopalbellefonte.org/event/holy-monday-spoken-eucharist/
LOCATION:Back of church
END:VEVENT
BEGIN:VEVENT
DTSTART;TZID=America/New_York:20190414T100000
DTEND;TZID=America/New_York:20190414T110000
DTSTAMP:20260425T110507
CREATED:20190409T234015Z
LAST-MODIFIED:20190409T234048Z
UID:1673-1555236000-1555239600@stjohnsepiscopalbellefonte.org
SUMMARY:Blessing of the Palms; Mass 8 and 10
DESCRIPTION:
URL:https://stjohnsepiscopalbellefonte.org/event/blessing-of-the-palms-mass-8-and-10/
END:VEVENT
BEGIN:VEVENT
DTSTART;TZID=America/New_York:20190316T160000
DTEND;TZID=America/New_York:20190316T190000
DTSTAMP:20260425T110507
CREATED:20190127T155558Z
LAST-MODIFIED:20190216T205123Z
UID:1563-1552752000-1552762800@stjohnsepiscopalbellefonte.org
SUMMARY:Corned Beef & Cabbage Dinner
DESCRIPTION:Traditional New York-style corned beef & cabbage \nDessert and beverage \nDine in or take out \n$15/person; $12 children 10 and under
URL:https://stjohnsepiscopalbellefonte.org/event/corned-beef-cabbage-dinner-2/
LOCATION:St. John’s Episcopal Parish Hall\, 120 W Lamb St\, Bellefonte\, PA\, 16823\, United States
END:VEVENT
BEGIN:VEVENT
DTSTART;TZID=America/New_York:20190305T160000
DTEND;TZID=America/New_York:20190305T183000
DTSTAMP:20260425T110507
CREATED:20190127T155049Z
LAST-MODIFIED:20190216T205147Z
UID:1559-1551801600-1551810600@stjohnsepiscopalbellefonte.org
SUMMARY:Shrove Tuesday Pancake Supper
DESCRIPTION:4-6:30 p.m. \n$7 for adults; $4 for kids under 12
URL:https://stjohnsepiscopalbellefonte.org/event/shrove-tuesday-pancake-supper/
LOCATION:St. John’s Episcopal Parish Hall\, 120 W Lamb St\, Bellefonte\, PA\, 16823\, United States
END:VEVENT
BEGIN:VEVENT
DTSTART;TZID=America/New_York:20181110T090000
DTEND;TZID=America/New_York:20181110T130000
DTSTAMP:20260425T110507
CREATED:20181024T180857Z
LAST-MODIFIED:20181024T180857Z
UID:1508-1541840400-1541854800@stjohnsepiscopalbellefonte.org
SUMMARY:Holiday Bazaar - Nov. 9-10
DESCRIPTION:Crafts\, decorations\, white elephant\, baked goods\, lunch\, take-out soup. \nFriday 9-6; Saturday 9-1
URL:https://stjohnsepiscopalbellefonte.org/event/holiday-bazaar-nov-9-10-2/
END:VEVENT
BEGIN:VEVENT
DTSTART;TZID=America/New_York:20181109T090000
DTEND;TZID=America/New_York:20181109T180000
DTSTAMP:20260425T110507
CREATED:20181024T180727Z
LAST-MODIFIED:20181024T180727Z
UID:1503-1541754000-1541786400@stjohnsepiscopalbellefonte.org
SUMMARY:Holiday Bazaar - Nov. 9-10
DESCRIPTION:Crafts\, decorations\, white elephant\, baked goods\, lunch\, take-out soup. \nFriday 9-6; Saturday 9-1
URL:https://stjohnsepiscopalbellefonte.org/event/holiday-bazaar-nov-9-10/
LOCATION:St. John’s Episcopal Parish Hall\, 120 W Lamb St\, Bellefonte\, PA\, 16823\, United States
END:VEVENT
BEGIN:VEVENT
DTSTART;TZID=America/New_York:20180924T190000
DTEND;TZID=America/New_York:20180924T200000
DTSTAMP:20260425T110507
CREATED:20180921T204012Z
LAST-MODIFIED:20180921T204012Z
UID:1491-1537815600-1537819200@stjohnsepiscopalbellefonte.org
SUMMARY:Men's Group/Bible Study
DESCRIPTION:
URL:https://stjohnsepiscopalbellefonte.org/event/mens-group-bible-study/
LOCATION:337 E. Curtin St.\, Bellefonte\, PA\, 337 E. Curtin St\, Bellefonte\, 16823\, United States
ORGANIZER;CN="Deacon Alex Dyakiw":MAILTO:deaconalex@gmail.com
END:VEVENT
BEGIN:VEVENT
DTSTART;TZID=America/New_York:20180923T100000
DTEND;TZID=America/New_York:20180923T123000
DTSTAMP:20260425T110507
CREATED:20180921T203611Z
LAST-MODIFIED:20180921T203611Z
UID:1482-1537696800-1537705800@stjohnsepiscopalbellefonte.org
SUMMARY:Outdoor Eucharist & Parish Picnic
DESCRIPTION:Our annual outdoor service will be held Sunday\, Sept. 23 at 10 a.m.\, followed by the parish potluck picnic. Location: 337 E Curtin St.\, Bellefonte.
URL:https://stjohnsepiscopalbellefonte.org/event/outdoor-eucharist-parish-picnic/
LOCATION:337 E Curtin St.\, Bellefonte\, PA\, United States
END:VEVENT
BEGIN:VEVENT
DTSTART;TZID=America/New_York:20180424T190000
DTEND;TZID=America/New_York:20180424T200000
DTSTAMP:20260425T110507
CREATED:20180402T015231Z
LAST-MODIFIED:20180402T015231Z
UID:1316-1524596400-1524600000@stjohnsepiscopalbellefonte.org
SUMMARY:Book Discussion Group: Being Disciples
DESCRIPTION:
URL:https://stjohnsepiscopalbellefonte.org/event/book-discussion-group-being-disciples-2/
LOCATION:Sunday School room\, 120 W Lamb St\, Bellefonte\, PA\, 16823\, United States
END:VEVENT
BEGIN:VEVENT
DTSTART;TZID=America/New_York:20180417T190000
DTEND;TZID=America/New_York:20180417T200000
DTSTAMP:20260425T110507
CREATED:20180402T013859Z
LAST-MODIFIED:20180402T015152Z
UID:1310-1523991600-1523995200@stjohnsepiscopalbellefonte.org
SUMMARY:Book Discussion Group: Being Disciples
DESCRIPTION:
URL:https://stjohnsepiscopalbellefonte.org/event/book-discussion-group-being-disciples/
LOCATION:Sunday School room\, 120 W Lamb St\, Bellefonte\, PA\, 16823\, United States
END:VEVENT
BEGIN:VEVENT
DTSTART;TZID=America/New_York:20180412T190000
DTEND;TZID=America/New_York:20180412T210000
DTSTAMP:20260425T110507
CREATED:20180402T015343Z
LAST-MODIFIED:20180402T015343Z
UID:1319-1523559600-1523566800@stjohnsepiscopalbellefonte.org
SUMMARY:Search Committee w/Canon Morrow
DESCRIPTION:
URL:https://stjohnsepiscopalbellefonte.org/event/search-committee-w-canon-morrow/
LOCATION:Parish Hall
END:VEVENT
BEGIN:VEVENT
DTSTART;TZID=America/New_York:20180408T110000
DTEND;TZID=America/New_York:20180408T120000
DTSTAMP:20260425T110507
CREATED:20180402T015502Z
LAST-MODIFIED:20180402T015502Z
UID:1323-1523185200-1523188800@stjohnsepiscopalbellefonte.org
SUMMARY:Search committee meeting
DESCRIPTION:
URL:https://stjohnsepiscopalbellefonte.org/event/search-committee-meeting/
LOCATION:Sunday School room\, 120 W Lamb St\, Bellefonte\, PA\, 16823\, United States
END:VEVENT
BEGIN:VEVENT
DTSTART;TZID=America/New_York:20180325T080000
DTEND;TZID=America/New_York:20180401T080000
DTSTAMP:20260425T110507
CREATED:20180321T191616Z
LAST-MODIFIED:20180322T205844Z
UID:1245-1521964800-1522569600@stjohnsepiscopalbellefonte.org
SUMMARY:Holy Week Schedule
DESCRIPTION:
URL:https://stjohnsepiscopalbellefonte.org/event/holy-week-schedule/
END:VEVENT
BEGIN:VEVENT
DTSTART;TZID=America/New_York:20180317T160000
DTEND;TZID=America/New_York:20180317T190000
DTSTAMP:20260425T110507
CREATED:20180310T012651Z
LAST-MODIFIED:20180310T012651Z
UID:1075-1521302400-1521313200@stjohnsepiscopalbellefonte.org
SUMMARY:Corned Beef & Cabbage dinner
DESCRIPTION:
URL:https://stjohnsepiscopalbellefonte.org/event/corned-beef-cabbage-dinner/
LOCATION:St. John’s Episcopal Parish Hall\, 120 W Lamb St\, Bellefonte\, PA\, 16823\, United States
END:VEVENT
BEGIN:VEVENT
DTSTART;VALUE=DATE:20180225
DTEND;VALUE=DATE:20180226
DTSTAMP:20260425T110507
CREATED:20180213T052336Z
LAST-MODIFIED:20180213T052336Z
UID:507-1519516800-1519603199@stjohnsepiscopalbellefonte.org
SUMMARY:Second Sunday of Lent
DESCRIPTION:
URL:https://stjohnsepiscopalbellefonte.org/event/second-sunday-of-lent/
END:VEVENT
BEGIN:VEVENT
DTSTART;TZID=America/New_York:20180221T193000
DTEND;TZID=America/New_York:20180221T203000
DTSTAMP:20260425T110507
CREATED:20180213T052309Z
LAST-MODIFIED:20180213T052309Z
UID:504-1519241400-1519245000@stjohnsepiscopalbellefonte.org
SUMMARY:Vestry Meeting
DESCRIPTION:
URL:https://stjohnsepiscopalbellefonte.org/event/vestry-meeting/
END:VEVENT
BEGIN:VEVENT
DTSTART;VALUE=DATE:20180218
DTEND;VALUE=DATE:20180219
DTSTAMP:20260425T110507
CREATED:20180213T052159Z
LAST-MODIFIED:20180213T052159Z
UID:501-1518912000-1518998399@stjohnsepiscopalbellefonte.org
SUMMARY:First Sunday of Lent
DESCRIPTION:
URL:https://stjohnsepiscopalbellefonte.org/event/first-sunday-of-lent/
END:VEVENT
BEGIN:VEVENT
DTSTART;TZID=America/New_York:20180214T190000
DTEND;TZID=America/New_York:20180214T210000
DTSTAMP:20260425T110507
CREATED:20180213T052133Z
LAST-MODIFIED:20180213T052133Z
UID:498-1518634800-1518642000@stjohnsepiscopalbellefonte.org
SUMMARY:High Mass/Ashes
DESCRIPTION:
URL:https://stjohnsepiscopalbellefonte.org/event/high-mass-ashes/
END:VEVENT
BEGIN:VEVENT
DTSTART;TZID=America/New_York:20180214T093000
DTEND;TZID=America/New_York:20180214T230000
DTSTAMP:20260425T110507
CREATED:20180213T052010Z
LAST-MODIFIED:20180213T052010Z
UID:494-1518600600-1518649200@stjohnsepiscopalbellefonte.org
SUMMARY:Low Mass/Ashes
DESCRIPTION:
URL:https://stjohnsepiscopalbellefonte.org/event/low-mass-ashes/
END:VEVENT
BEGIN:VEVENT
DTSTART;VALUE=DATE:20180214
DTEND;VALUE=DATE:20180215
DTSTAMP:20260425T110507
CREATED:20180213T051854Z
LAST-MODIFIED:20180213T052057Z
UID:491-1518566400-1518652799@stjohnsepiscopalbellefonte.org
SUMMARY:Ash Wednesday
DESCRIPTION:
URL:https://stjohnsepiscopalbellefonte.org/event/ash-wednesday/
END:VEVENT
END:VCALENDAR