BEGIN:VCALENDAR
VERSION:2.0
PRODID:-//St. John&#039;s Bellefonte - ECPv6.15.20//NONSGML v1.0//EN
CALSCALE:GREGORIAN
METHOD:PUBLISH
X-WR-CALNAME:St. John&#039;s Bellefonte
X-ORIGINAL-URL:https://stjohnsepiscopalbellefonte.org
X-WR-CALDESC:Events for St. John&#039;s Bellefonte
REFRESH-INTERVAL;VALUE=DURATION:PT1H
X-Robots-Tag:noindex
X-PUBLISHED-TTL:PT1H
BEGIN:VTIMEZONE
TZID:America/New_York
BEGIN:DAYLIGHT
TZOFFSETFROM:-0500
TZOFFSETTO:-0400
TZNAME:EDT
DTSTART:20240310T070000
END:DAYLIGHT
BEGIN:STANDARD
TZOFFSETFROM:-0400
TZOFFSETTO:-0500
TZNAME:EST
DTSTART:20241103T060000
END:STANDARD
BEGIN:DAYLIGHT
TZOFFSETFROM:-0500
TZOFFSETTO:-0400
TZNAME:EDT
DTSTART:20250309T070000
END:DAYLIGHT
BEGIN:STANDARD
TZOFFSETFROM:-0400
TZOFFSETTO:-0500
TZNAME:EST
DTSTART:20251102T060000
END:STANDARD
BEGIN:DAYLIGHT
TZOFFSETFROM:-0500
TZOFFSETTO:-0400
TZNAME:EDT
DTSTART:20260308T070000
END:DAYLIGHT
BEGIN:STANDARD
TZOFFSETFROM:-0400
TZOFFSETTO:-0500
TZNAME:EST
DTSTART:20261101T060000
END:STANDARD
END:VTIMEZONE
BEGIN:VEVENT
DTSTART;TZID=America/New_York:20250119T093000
DTEND;TZID=America/New_York:20250119T120000
DTSTAMP:20260424T113844
CREATED:20250113T140105Z
LAST-MODIFIED:20250118T184820Z
UID:3995-1737279000-1737288000@stjohnsepiscopalbellefonte.org
SUMMARY:Annual meeting+Potluck lunch
DESCRIPTION:ONE SERVICE will be held at 9:30 a.m. in the church on January 19. The annual meeting will following the service\, and then a potluck lunch will be held in the parish hall.
URL:https://stjohnsepiscopalbellefonte.org/event/grief-counseling/
LOCATION:Church\, 120 W Lamb St\, Bellefonte\, PA\, 16823\, United States
END:VEVENT
BEGIN:VEVENT
DTSTART;TZID=America/New_York:20250120T170000
DTEND;TZID=America/New_York:20250120T173000
DTSTAMP:20260424T113844
CREATED:20250120T114607Z
LAST-MODIFIED:20250120T114607Z
UID:4018-1737392400-1737394200@stjohnsepiscopalbellefonte.org
SUMMARY:Eucharist for ML King Day and Inauguration
DESCRIPTION:Eucharist at Mary Altar to pray for our country as a new president takes office and to remember Martin Luther King
URL:https://stjohnsepiscopalbellefonte.org/event/eucharist-for-ml-king-day-and-inauguration/
LOCATION:Back of church
END:VEVENT
BEGIN:VEVENT
DTSTART;TZID=America/New_York:20250125T130000
DTEND;TZID=America/New_York:20250125T143000
DTSTAMP:20260424T113844
CREATED:20250118T185232Z
LAST-MODIFIED:20250118T185232Z
UID:4012-1737810000-1737815400@stjohnsepiscopalbellefonte.org
SUMMARY:Grief counseling
DESCRIPTION:Grief counseling with Michael Larrimore in parish hall. All are welcome.
URL:https://stjohnsepiscopalbellefonte.org/event/grief-counseling-2/
LOCATION:189 W Lamb St\, Bellefonte
END:VEVENT
END:VCALENDAR