BEGIN:VCALENDAR
VERSION:2.0
PRODID:-//St. John&#039;s Bellefonte - ECPv6.15.20//NONSGML v1.0//EN
CALSCALE:GREGORIAN
METHOD:PUBLISH
X-WR-CALNAME:St. John&#039;s Bellefonte
X-ORIGINAL-URL:https://stjohnsepiscopalbellefonte.org
X-WR-CALDESC:Events for St. John&#039;s Bellefonte
REFRESH-INTERVAL;VALUE=DURATION:PT1H
X-Robots-Tag:noindex
X-PUBLISHED-TTL:PT1H
BEGIN:VTIMEZONE
TZID:America/New_York
BEGIN:DAYLIGHT
TZOFFSETFROM:-0500
TZOFFSETTO:-0400
TZNAME:EDT
DTSTART:20240310T070000
END:DAYLIGHT
BEGIN:STANDARD
TZOFFSETFROM:-0400
TZOFFSETTO:-0500
TZNAME:EST
DTSTART:20241103T060000
END:STANDARD
BEGIN:DAYLIGHT
TZOFFSETFROM:-0500
TZOFFSETTO:-0400
TZNAME:EDT
DTSTART:20250309T070000
END:DAYLIGHT
BEGIN:STANDARD
TZOFFSETFROM:-0400
TZOFFSETTO:-0500
TZNAME:EST
DTSTART:20251102T060000
END:STANDARD
BEGIN:DAYLIGHT
TZOFFSETFROM:-0500
TZOFFSETTO:-0400
TZNAME:EDT
DTSTART:20260308T070000
END:DAYLIGHT
BEGIN:STANDARD
TZOFFSETFROM:-0400
TZOFFSETTO:-0500
TZNAME:EST
DTSTART:20261101T060000
END:STANDARD
END:VTIMEZONE
BEGIN:VEVENT
DTSTART;TZID=America/New_York:20250605T180000
DTEND;TZID=America/New_York:20250605T193000
DTSTAMP:20260424T031431
CREATED:20250517T232840Z
LAST-MODIFIED:20250517T232907Z
UID:4153-1749146400-1749151800@stjohnsepiscopalbellefonte.org
SUMMARY:"Let us keep the Feast" dinner
DESCRIPTION:
URL:https://stjohnsepiscopalbellefonte.org/event/let-us-keep-the-feast-dinner/
LOCATION:189 W Lamb St\, Bellefonte
END:VEVENT
BEGIN:VEVENT
DTSTART;VALUE=DATE:20250610
DTEND;VALUE=DATE:20250611
DTSTAMP:20260424T031431
CREATED:20250517T134851Z
LAST-MODIFIED:20250517T134851Z
UID:4126-1749513600-1749599999@stjohnsepiscopalbellefonte.org
SUMMARY:Meeting to discuss parish retreat
DESCRIPTION:
URL:https://stjohnsepiscopalbellefonte.org/event/meeting-to-discuss-parish-retreat/
LOCATION:PA
END:VEVENT
BEGIN:VEVENT
DTSTART;VALUE=DATE:20250612
DTEND;VALUE=DATE:20250613
DTSTAMP:20260424T031431
CREATED:20250517T134932Z
LAST-MODIFIED:20250517T134932Z
UID:4129-1749686400-1749772799@stjohnsepiscopalbellefonte.org
SUMMARY:Women's Faith Group 1st gathering
DESCRIPTION:
URL:https://stjohnsepiscopalbellefonte.org/event/womens-faith-group-1st-gathering/
LOCATION:PA
END:VEVENT
BEGIN:VEVENT
DTSTART;VALUE=DATE:20250614
DTEND;VALUE=DATE:20250615
DTSTAMP:20260424T031431
CREATED:20250517T135014Z
LAST-MODIFIED:20250517T135014Z
UID:4132-1749859200-1749945599@stjohnsepiscopalbellefonte.org
SUMMARY:Parish hike (tentative)
DESCRIPTION:
URL:https://stjohnsepiscopalbellefonte.org/event/parish-hike-tentative/
LOCATION:PA
END:VEVENT
BEGIN:VEVENT
DTSTART;TZID=America/New_York:20250621T150000
DTEND;TZID=America/New_York:20250621T170000
DTSTAMP:20260424T031431
CREATED:20250607T132211Z
LAST-MODIFIED:20250607T132329Z
UID:4163-1750518000-1750525200@stjohnsepiscopalbellefonte.org
SUMMARY:Organ Recital
DESCRIPTION:Guest Organist David Billings\, a PSU alumnus who holds a DMA from the Eastman School of Music\, will be featured in an organ recital at Grace Lutheran Church (205 S. Garner\, State College\, PA) on Saturday\, June 21\, 2025\, at 3:00 p.m.  The program is a tribute to retired PSU organ instructor June Miller and her long career of teaching and performance.  Dr. Billings will perform works by Bach\, Mendelssohn\, Vierne\, and Widor.  The recital is open to the public\, and all are cordially invited to attend.
URL:https://stjohnsepiscopalbellefonte.org/event/organ-recital/
LOCATION:Grace Lutheran Church State College\, 205 S. Garner St\, State College\, 16801\, United States
END:VEVENT
BEGIN:VEVENT
DTSTART;TZID=America/New_York:20250622T093000
DTEND;TZID=America/New_York:20250622T233000
DTSTAMP:20260424T031431
CREATED:20250517T135105Z
LAST-MODIFIED:20250517T135105Z
UID:4135-1750584600-1750635000@stjohnsepiscopalbellefonte.org
SUMMARY:Combined service & potluck lunch
DESCRIPTION:
URL:https://stjohnsepiscopalbellefonte.org/event/combined-service-potluck-lunch/
LOCATION:120 W Lamb St\, Bellefonte\, 120 W Lamb St\, Bellefonte\, PA\, 16823\, United States
END:VEVENT
END:VCALENDAR