BEGIN:VCALENDAR
VERSION:2.0
PRODID:-//St. John&#039;s Bellefonte - ECPv6.15.20//NONSGML v1.0//EN
CALSCALE:GREGORIAN
METHOD:PUBLISH
X-WR-CALNAME:St. John&#039;s Bellefonte
X-ORIGINAL-URL:https://stjohnsepiscopalbellefonte.org
X-WR-CALDESC:Events for St. John&#039;s Bellefonte
REFRESH-INTERVAL;VALUE=DURATION:PT1H
X-Robots-Tag:noindex
X-PUBLISHED-TTL:PT1H
BEGIN:VTIMEZONE
TZID:America/New_York
BEGIN:DAYLIGHT
TZOFFSETFROM:-0500
TZOFFSETTO:-0400
TZNAME:EDT
DTSTART:20240310T070000
END:DAYLIGHT
BEGIN:STANDARD
TZOFFSETFROM:-0400
TZOFFSETTO:-0500
TZNAME:EST
DTSTART:20241103T060000
END:STANDARD
BEGIN:DAYLIGHT
TZOFFSETFROM:-0500
TZOFFSETTO:-0400
TZNAME:EDT
DTSTART:20250309T070000
END:DAYLIGHT
BEGIN:STANDARD
TZOFFSETFROM:-0400
TZOFFSETTO:-0500
TZNAME:EST
DTSTART:20251102T060000
END:STANDARD
BEGIN:DAYLIGHT
TZOFFSETFROM:-0500
TZOFFSETTO:-0400
TZNAME:EDT
DTSTART:20260308T070000
END:DAYLIGHT
BEGIN:STANDARD
TZOFFSETFROM:-0400
TZOFFSETTO:-0500
TZNAME:EST
DTSTART:20261101T060000
END:STANDARD
END:VTIMEZONE
BEGIN:VEVENT
DTSTART;TZID=America/New_York:20250701T190000
DTEND;TZID=America/New_York:20250701T200000
DTSTAMP:20260424T014546
CREATED:20250628T190107Z
LAST-MODIFIED:20250628T190107Z
UID:4176-1751396400-1751400000@stjohnsepiscopalbellefonte.org
SUMMARY:Prayer group
DESCRIPTION:
URL:https://stjohnsepiscopalbellefonte.org/event/prayer-group-3/
LOCATION:120 W Lamb St\, Bellefonte\, 120 W Lamb St\, Bellefonte\, PA\, 16823\, United States
END:VEVENT
BEGIN:VEVENT
DTSTART;TZID=America/New_York:20250710T171500
DTEND;TZID=America/New_York:20250710T183000
DTSTAMP:20260424T014546
CREATED:20250707T142602Z
LAST-MODIFIED:20250707T142617Z
UID:4190-1752167700-1752172200@stjohnsepiscopalbellefonte.org
SUMMARY:Prayer group
DESCRIPTION:We are praying the Ignatian Examen. All are welcome.
URL:https://stjohnsepiscopalbellefonte.org/event/prayer-group-4/
LOCATION:120 W Lamb St\, Bellefonte\, 120 W Lamb St\, Bellefonte\, PA\, 16823\, United States
END:VEVENT
BEGIN:VEVENT
DTSTART;VALUE=DATE:20250712
DTEND;VALUE=DATE:20250713
DTSTAMP:20260424T014546
CREATED:20250517T135306Z
LAST-MODIFIED:20250517T135306Z
UID:4141-1752278400-1752364799@stjohnsepiscopalbellefonte.org
SUMMARY:Young-ish adult dinner
DESCRIPTION:To be held at the Bauman residence. Details to follow.
URL:https://stjohnsepiscopalbellefonte.org/event/young-ish-adult-dinner/
LOCATION:PA
END:VEVENT
BEGIN:VEVENT
DTSTART;TZID=America/New_York:20250713T093000
DTEND;TZID=America/New_York:20250713T113000
DTSTAMP:20260424T014546
CREATED:20250628T190356Z
LAST-MODIFIED:20250628T190435Z
UID:4182-1752399000-1752406200@stjohnsepiscopalbellefonte.org
SUMMARY:Bishop Scanlan's visit with Sung Mass & reception
DESCRIPTION:
URL:https://stjohnsepiscopalbellefonte.org/event/bishop-scanlans-visit-with-sung-mass-reception/
LOCATION:120 W Lamb St\, Bellefonte\, 120 W Lamb St\, Bellefonte\, PA\, 16823\, United States
END:VEVENT
BEGIN:VEVENT
DTSTART;TZID=America/New_York:20250715T183000
DTEND;TZID=America/New_York:20250715T191500
DTSTAMP:20260424T014546
CREATED:20250628T185739Z
LAST-MODIFIED:20250714T115235Z
UID:4169-1752604200-1752606900@stjohnsepiscopalbellefonte.org
SUMMARY:Prayer group
DESCRIPTION:
URL:https://stjohnsepiscopalbellefonte.org/event/prayer-group/
LOCATION:120 W Lamb St\, Bellefonte\, 120 W Lamb St\, Bellefonte\, PA\, 16823\, United States
END:VEVENT
BEGIN:VEVENT
DTSTART;TZID=America/New_York:20250717T190000
DTEND;TZID=America/New_York:20250717T200000
DTSTAMP:20260424T014546
CREATED:20250714T115611Z
LAST-MODIFIED:20250715T111731Z
UID:4206-1752778800-1752782400@stjohnsepiscopalbellefonte.org
SUMMARY:Candlelight Vigil in memoriam John Lewis
DESCRIPTION:A candlelight vigil will be held in front of the courthouse to honor the life and legacy of Congressman and Baptist minister John Lewis. He practiced Christian non-violence and “good trouble” in his advocacy for civil and human rights. Rev. Ruth will give invocation\, and parishioner/historian Phil Ruth will speak on issues of human freedom and non-violence.
URL:https://stjohnsepiscopalbellefonte.org/event/candlelight-vigil-in-memoriam-john-lewis/
LOCATION:Centre County Courthouse
END:VEVENT
BEGIN:VEVENT
DTSTART;TZID=America/New_York:20250729T190000
DTEND;TZID=America/New_York:20250729T200000
DTSTAMP:20260424T014546
CREATED:20250628T185943Z
LAST-MODIFIED:20250628T231701Z
UID:4173-1753815600-1753819200@stjohnsepiscopalbellefonte.org
SUMMARY:Prayer group
DESCRIPTION:
URL:https://stjohnsepiscopalbellefonte.org/event/prayer-group-2/
LOCATION:PA
END:VEVENT
END:VCALENDAR