BEGIN:VCALENDAR
VERSION:2.0
PRODID:-//St. John&#039;s Bellefonte - ECPv6.15.20//NONSGML v1.0//EN
CALSCALE:GREGORIAN
METHOD:PUBLISH
X-WR-CALNAME:St. John&#039;s Bellefonte
X-ORIGINAL-URL:https://stjohnsepiscopalbellefonte.org
X-WR-CALDESC:Events for St. John&#039;s Bellefonte
REFRESH-INTERVAL;VALUE=DURATION:PT1H
X-Robots-Tag:noindex
X-PUBLISHED-TTL:PT1H
BEGIN:VTIMEZONE
TZID:America/New_York
BEGIN:DAYLIGHT
TZOFFSETFROM:-0500
TZOFFSETTO:-0400
TZNAME:EDT
DTSTART:20240310T070000
END:DAYLIGHT
BEGIN:STANDARD
TZOFFSETFROM:-0400
TZOFFSETTO:-0500
TZNAME:EST
DTSTART:20241103T060000
END:STANDARD
BEGIN:DAYLIGHT
TZOFFSETFROM:-0500
TZOFFSETTO:-0400
TZNAME:EDT
DTSTART:20250309T070000
END:DAYLIGHT
BEGIN:STANDARD
TZOFFSETFROM:-0400
TZOFFSETTO:-0500
TZNAME:EST
DTSTART:20251102T060000
END:STANDARD
BEGIN:DAYLIGHT
TZOFFSETFROM:-0500
TZOFFSETTO:-0400
TZNAME:EDT
DTSTART:20260308T070000
END:DAYLIGHT
BEGIN:STANDARD
TZOFFSETFROM:-0400
TZOFFSETTO:-0500
TZNAME:EST
DTSTART:20261101T060000
END:STANDARD
END:VTIMEZONE
BEGIN:VEVENT
DTSTART;TZID=America/New_York:20250904T173000
DTEND;TZID=America/New_York:20250904T193000
DTSTAMP:20260423T225707
CREATED:20250811T201205Z
LAST-MODIFIED:20250811T201205Z
UID:4232-1757007000-1757014200@stjohnsepiscopalbellefonte.org
SUMMARY:Holy Eucharist followed by potluck
DESCRIPTION:Sign up for potluck dinner in the Parish Hall (6 p.m.) following the 5:30 Eucharist.
URL:https://stjohnsepiscopalbellefonte.org/event/holy-eucharist-followed-by-potluck/
LOCATION:PA
END:VEVENT
BEGIN:VEVENT
DTSTART;TZID=America/New_York:20250914T093000
DTEND;TZID=America/New_York:20250914T120000
DTSTAMP:20260423T225707
CREATED:20250817T164450Z
LAST-MODIFIED:20250819T125718Z
UID:4237-1757842200-1757851200@stjohnsepiscopalbellefonte.org
SUMMARY:Feast of the Holy Cross+Parish Picnic
DESCRIPTION:One service at 9:30 a.m. in the church\, followed by Parish picnic in Governor’s Park. Sign-up sheet in the back of the church.
URL:https://stjohnsepiscopalbellefonte.org/event/feast-of-the-holy-crossparish-picnic/
LOCATION:Governor’s Park\, Governor's Park Road\, Bellefonte\, PA\, 16823\, United States
END:VEVENT
BEGIN:VEVENT
DTSTART;TZID=America/New_York:20250920T090000
DTEND;TZID=America/New_York:20250920T223000
DTSTAMP:20260423T225707
CREATED:20250916T113648Z
LAST-MODIFIED:20250916T113648Z
UID:4251-1758358800-1758407400@stjohnsepiscopalbellefonte.org
SUMMARY:Parish Work Day
DESCRIPTION:Bring clippers\, rakes\, gloves\, etc.\, to help beautify our spaces and grounds.
URL:https://stjohnsepiscopalbellefonte.org/event/parish-work-day/
LOCATION:120 W Lamb St\, Bellefonte\, 120 W Lamb St\, Bellefonte\, PA\, 16823\, United States
END:VEVENT
BEGIN:VEVENT
DTSTART;TZID=America/New_York:20250923T183000
DTEND;TZID=America/New_York:20250923T193000
DTSTAMP:20260423T225707
CREATED:20250916T113424Z
LAST-MODIFIED:20250916T113424Z
UID:4248-1758652200-1758655800@stjohnsepiscopalbellefonte.org
SUMMARY:Prayer Group
DESCRIPTION:
URL:https://stjohnsepiscopalbellefonte.org/event/prayer-group-6/
LOCATION:120 W Lamb St\, Bellefonte\, 120 W Lamb St\, Bellefonte\, PA\, 16823\, United States
END:VEVENT
END:VCALENDAR