BEGIN:VCALENDAR
VERSION:2.0
PRODID:-//St. John&#039;s Bellefonte - ECPv6.15.20//NONSGML v1.0//EN
CALSCALE:GREGORIAN
METHOD:PUBLISH
X-ORIGINAL-URL:https://stjohnsepiscopalbellefonte.org
X-WR-CALDESC:Events for St. John&#039;s Bellefonte
REFRESH-INTERVAL;VALUE=DURATION:PT1H
X-Robots-Tag:noindex
X-PUBLISHED-TTL:PT1H
BEGIN:VTIMEZONE
TZID:America/New_York
BEGIN:DAYLIGHT
TZOFFSETFROM:-0500
TZOFFSETTO:-0400
TZNAME:EDT
DTSTART:20240310T070000
END:DAYLIGHT
BEGIN:STANDARD
TZOFFSETFROM:-0400
TZOFFSETTO:-0500
TZNAME:EST
DTSTART:20241103T060000
END:STANDARD
BEGIN:DAYLIGHT
TZOFFSETFROM:-0500
TZOFFSETTO:-0400
TZNAME:EDT
DTSTART:20250309T070000
END:DAYLIGHT
BEGIN:STANDARD
TZOFFSETFROM:-0400
TZOFFSETTO:-0500
TZNAME:EST
DTSTART:20251102T060000
END:STANDARD
BEGIN:DAYLIGHT
TZOFFSETFROM:-0500
TZOFFSETTO:-0400
TZNAME:EDT
DTSTART:20260308T070000
END:DAYLIGHT
BEGIN:STANDARD
TZOFFSETFROM:-0400
TZOFFSETTO:-0500
TZNAME:EST
DTSTART:20261101T060000
END:STANDARD
END:VTIMEZONE
BEGIN:VEVENT
DTSTART;TZID=America/New_York:20251002T173000
DTEND;TZID=America/New_York:20251002T193000
DTSTAMP:20260423T213953
CREATED:20250921T180640Z
LAST-MODIFIED:20250921T180640Z
UID:4274-1759426200-1759433400@stjohnsepiscopalbellefonte.org
SUMMARY:Saint's Day & Potluck
DESCRIPTION:Following 5:30 p.m. service of Holy Eucharist in celebration of The Holy Guardian Angels\, we will gather in the parish hall for a potluck dinner. Sign up on the back table in the church.
URL:https://stjohnsepiscopalbellefonte.org/event/saints-day-potluck/
LOCATION:120 W Lamb St\, Bellefonte\, 120 W Lamb St\, Bellefonte\, PA\, 16823\, United States
END:VEVENT
BEGIN:VEVENT
DTSTART;TZID=America/New_York:20251005T100000
DTEND;TZID=America/New_York:20251005T110000
DTSTAMP:20260423T213953
CREATED:20250916T115332Z
LAST-MODIFIED:20250916T115351Z
UID:4264-1759658400-1759662000@stjohnsepiscopalbellefonte.org
SUMMARY:Feast of St. Francis & Pet Blessing
DESCRIPTION:Bring your pets (and plants) to church to receive a blessing for all living things.
URL:https://stjohnsepiscopalbellefonte.org/event/feast-of-st-francis-pet-blessing/
LOCATION:120 W Lamb St\, Bellefonte\, 120 W Lamb St\, Bellefonte\, PA\, 16823\, United States
END:VEVENT
BEGIN:VEVENT
DTSTART;TZID=America/New_York:20251023T173000
DTEND;TZID=America/New_York:20251023T183000
DTSTAMP:20260423T213953
CREATED:20250921T180841Z
LAST-MODIFIED:20250921T180946Z
UID:4277-1761240600-1761244200@stjohnsepiscopalbellefonte.org
SUMMARY:Prayer Vigil with Holy Communion
DESCRIPTION:The Rev’d John Harwood will preside in this commemoration on the first anniversary of Deacon Alex Dyakiw’s passing.
URL:https://stjohnsepiscopalbellefonte.org/event/prayer-vigil-with-holy-communion/
LOCATION:120 W Lamb St\, Bellefonte\, 120 W Lamb St\, Bellefonte\, PA\, 16823\, United States
END:VEVENT
BEGIN:VEVENT
DTSTART;TZID=America/New_York:20251024T170000
DTEND;TZID=America/New_York:20251024T200000
DTSTAMP:20260423T213953
CREATED:20250819T130029Z
LAST-MODIFIED:20250819T130029Z
UID:4243-1761325200-1761336000@stjohnsepiscopalbellefonte.org
SUMMARY:Rector's Installation
DESCRIPTION:Installation of The Rev. Ruth Ferguson as St. John’s Rector
URL:https://stjohnsepiscopalbellefonte.org/event/rectors-installation/
LOCATION:120 W Lamb St\, Bellefonte\, 120 W Lamb St\, Bellefonte\, PA\, 16823\, United States
END:VEVENT
END:VCALENDAR