BEGIN:VCALENDAR
VERSION:2.0
PRODID:-//St. John&#039;s Bellefonte - ECPv6.15.20//NONSGML v1.0//EN
CALSCALE:GREGORIAN
METHOD:PUBLISH
X-ORIGINAL-URL:https://stjohnsepiscopalbellefonte.org
X-WR-CALDESC:Events for St. John&#039;s Bellefonte
REFRESH-INTERVAL;VALUE=DURATION:PT1H
X-Robots-Tag:noindex
X-PUBLISHED-TTL:PT1H
BEGIN:VTIMEZONE
TZID:America/New_York
BEGIN:DAYLIGHT
TZOFFSETFROM:-0500
TZOFFSETTO:-0400
TZNAME:EDT
DTSTART:20250309T070000
END:DAYLIGHT
BEGIN:STANDARD
TZOFFSETFROM:-0400
TZOFFSETTO:-0500
TZNAME:EST
DTSTART:20251102T060000
END:STANDARD
BEGIN:DAYLIGHT
TZOFFSETFROM:-0500
TZOFFSETTO:-0400
TZNAME:EDT
DTSTART:20260308T070000
END:DAYLIGHT
BEGIN:STANDARD
TZOFFSETFROM:-0400
TZOFFSETTO:-0500
TZNAME:EST
DTSTART:20261101T060000
END:STANDARD
BEGIN:DAYLIGHT
TZOFFSETFROM:-0500
TZOFFSETTO:-0400
TZNAME:EDT
DTSTART:20270314T070000
END:DAYLIGHT
BEGIN:STANDARD
TZOFFSETFROM:-0400
TZOFFSETTO:-0500
TZNAME:EST
DTSTART:20271107T060000
END:STANDARD
END:VTIMEZONE
BEGIN:VEVENT
DTSTART;TZID=America/New_York:20260104T100000
DTEND;TZID=America/New_York:20260104T110000
DTSTAMP:20260423T170736
CREATED:20260103T121056Z
LAST-MODIFIED:20260103T121056Z
UID:4331-1767520800-1767524400@stjohnsepiscopalbellefonte.org
SUMMARY:Solemn High Mass - Feast of the Epiphany
DESCRIPTION:
URL:https://stjohnsepiscopalbellefonte.org/event/solemn-high-mass-feast-of-the-epiphany/
LOCATION:120 W Lamb St\, Bellefonte\, 120 W Lamb St\, Bellefonte\, PA\, 16823\, United States
END:VEVENT
BEGIN:VEVENT
DTSTART;TZID=America/New_York:20260118T093000
DTEND;TZID=America/New_York:20260118T230000
DTSTAMP:20260423T170736
CREATED:20251228T130818Z
LAST-MODIFIED:20251228T130818Z
UID:4327-1768728600-1768777200@stjohnsepiscopalbellefonte.org
SUMMARY:Combined service (9:30) and annual meeting
DESCRIPTION:We will hold one service on Sunday\, to be followed by the annual meeting in the church. Proposed budget will be presented.
URL:https://stjohnsepiscopalbellefonte.org/event/combined-service-930-and-annual-meeting/
LOCATION:120 W Lamb St\, Bellefonte\, 120 W Lamb St\, Bellefonte\, PA\, 16823\, United States
END:VEVENT
END:VCALENDAR